Workbook

Sheet 说明
A1: 第五章 工程量清单
A2: 1. 工程量清单说明
A3: 1.1 本工程量清单是根据招标文件中包括的有合同约束力的工程量清单计量规则、图纸以及有关工程量清单的国家标准、行业标准、合同条款中约定的其他规则编制。约定计量规则中没有的子目，其工程量按照有合同约束力的图纸所标示尺寸的理论净量计算。计量采用中华人民共和国法定计量单位。
A4: 1.2 本工程量清单应与招标文件中的投标人须知，通用合同条款、专用合同条款、工程量清单计量规则、技术规范及图纸等一起阅读和理解。
A5: 1.3 本工程量清单中所列工程数量是估算的或设计的预计数量，仅作为投标报价的共同基础，不能作为最终结算与支付的依据。实际支付应按实际完成的工程量，由承包人按工程量清单计量规则规定的计量方法，以监理人认可的尺寸、断面计量，按本工程量清单的单价和总额价计算支付金额；或根据具体情况，按合同条款第15.4款的规定，按监理人确定的单价或总额价计算支付额。
A6: 1.4 工程量清单各章是按第八章“工程量清单计量规则”、第七章“技术规范”的相应章次编号的，因此，工程量清单中各章的工程子目的范围与计量等应与“工程量清单计量规则”、“技术规范”相应章节的范围、计量与支付条款结合起来理解或解释。
A7: 1.5 对作业和材料的一般说明或规定，未重复写入工程量清单内，在给工程量清单各子目标价前，应参阅第七章“技术规范”的有关内容。
A8: 1.6 工程量清单中所列工程量的变动，丝毫不会降低或影响合同条款的效力，也不免除承包人按规定的标准进行施工和修复缺陷的责任。
A9: 1.7 图纸中所列的工程数量表及数量汇总表仅是提供资料，不是工程量清单的外延。当图纸与工程量清单所列数量不一致时，以工程量清单所列数量作为报价的依据。
A10: 2. 投标报价的说明
A11: 2.1 工程量清单中的每一子目（有数量）须填入单价或价格，且只允许有一个报价。
A12: 2.2 除非合同另有规定，工程量清单中有标价的单价和总额价均已包括了为实施和完成合同工程所需的劳务、材料、机械、质检（自检）、安装、缺陷修复、管理、保险、税费、利润等费用，以及合同明示或暗示的所有责任、义务和一般风险。
... A23: 4.4拌合站的等相关费用包含在工程量清单相关子目单价或总额价中，不另行计量。

Sheet 项目汇总表
A1: 项目汇总
A2: 项目名称：乡村振兴项目基础设施配套路项目
A3: 序号 | B3: 工程名称 | C3: 金额（元)
A4: 1 | B4: 刘家店道路工程 | C4: ='【5.4表】-刘家店道路工程'!D12 -> 0
A5: 2 | B5: 新农村道路工程 | C5: ='【5.4表】-新农村道路工程'!D11 -> 0
A6: 3 | B6: 平安堡道路工程 | C6: ='【5.4表】-平安堡道路工程'!D12 -> 0
A7: 合计 | C7: =SUM(C4:C6) -> 0

Sheet 【5.1表】-刘家店道路工程
A1: 工程量清单
A2: 合 同 段：刘家店道路工程 | E2: 货币单位：人民币 元
A3: 清单 第100章 总则
A4: 子目号 | B4: 子 目 名 称 | C4: 单位 | D4: 数量 | E4: 单价 | F4: 合价
A5: 101 | B5: 通则
A6: 101-1 | B6: 保险费
A7: -a | B7: 按合同条款规定，提供建筑工程一切险 | C7: 总额 | D7: 1 | E7: =(F10+F44+F85+F88+F90+F91)*0.003 -> 0 | F7: =E7*D7 -> 0
A8: -b | B8: 按合同条款规定，提供第三者责任险 | C8: 总额 | D8: 1 | E8: =IF(E10<>"",4000,"") | F8: =E8
A9: 102 | B9: 工程管理
A10: 102-3 | B10: 安全生产费 | C10: 总额 | D10: 1 | F10: =E10*D10 -> 0
F12: =E12*D12 -> 0
B37: 清单 第100章 合计 | D37: =SUM(F5:F10) -> 0
A38: 工程量清单
A39: 合 同 段：刘家店道路工程 | E39: 货币单位：人民币 元
A40: 清单 第200章 路基
A41: 子目号 | B41: 子 目 名 称 | C41: 单位 | D41: 数量 | E41: 单价 | F41: 合价
A42: 203 | B42: 挖方路基
A43: 203-1 | B43: 路基挖方
A44: -a | B44: 挖土方(包含外运，运距投标人自行考虑） | C44: m³ | D44: 1280.75 | F44: =E44*D44 -> 0
F45: =E45*D45 -> 0
F46: =E46*D46 -> 0
F47: =E47*D47 -> 0
F48: =E48*D48 -> 0
F49: =E49*D49 -> 0
F51: =E51*D51 -> 0
F52: =E52*D52 -> 0
F53: =E53*D53 -> 0
F54: =E54*D54 -> 0
F55: =E55*D55 -> 0
F56: =E56*D56 -> 0
F58: =E58*D58 -> 0
... F76: =E76*D76 -> 0
B78: 清单 第200章 合计 | D78: =SUM(F42:F44) -> 0
A79: 工程量清单
A80: 合 同 段：刘家店道路工程 | E80: 货币单位：人民币 元
A81: 清单 第300章 路面
A82: 子目号 | B82: 子 目 名 称 | C82: 单位 | D82: 数量 | E82: 单价 | F82: 合价
A83: 302 | B83: 垫层
A84: 302-1 | B84: 垫层
A85: -a | B85: 山皮石厚20cm | C85: ㎡ | D85: 3194.1 | F85: =E85*D85 -> 0
...

Sheet 【5.4表】-刘家店道路工程
A1: 投标报价汇总表
A2: 合 同 段：刘家店道路工程
A3: 序号 | B3: 章次 | C3: 科 目 名 称 | D3: 金额（元）
A4: 1 | B4: 100 | C4: 清单 第100章 总则 | D4: ='【5.1表】-刘家店道路工程'!D37 -> 0
A5: 2 | B5: 200 | C5: 清单 第200章 路基 | D5: ='【5.1表】-刘家店道路工程'!D78 -> 0
A6: 3 | B6: 300 | C6: 清单 第300章 路面 | D6: ='【5.1表】-刘家店道路工程'!D116 -> 0
A7: 4 | B7: 第100章至300章清单合计 | D7: =SUM(D4:D6) -> 0
A8: 5 | B8: 已包含在清单合计中的材料、工程设备、专业工程暂估价合计
A9: 6 | B9: 清单合计减去材料、工程设备、专业工程暂估价 合计(即4-5)=6
A10: 7 | B10: 计日工合计
A11: 8 | B11: 暂列金额(不含计日工总额)
A12: 9 | B12: 投标报价(4+7+8)=9 | D12: =D7 -> 0

Sheet 【5.1表】-新农村道路工程
A1: 工程量清单
A2: 合 同 段：新农村道路工程 | E2: 货币单位：人民币 元
A3: 清单 第100章 总则
A4: 子目号 | B4: 子 目 名 称 | C4: 单位 | D4: 数量 | E4: 单价 | F4: 合价
A5: 101 | B5: 通则
A6: 101-1 | B6: 保险费
A7: -a | B7: 按合同条款规定，提供建筑工程一切险 | C7: 总额 | D7: 1 | E7: =(F9+F43+F46+F48+F49)*0.003 -> 0 | F7: =E7*D7 -> 0
A8: 102 | B8: 工程管理
A9: 102-3 | B9: 安全生产费 | C9: 总额 | D9: 1 | F9: =E9*D9 -> 0
F11: =E11*D11 -> 0
B36: 清单 第100章 合计 | D36: =SUM(F5:F9) -> 0
A37: 工程量清单
A38: 合 同 段：新农村道路工程 | E38: 货币单位：人民币 元
A39: 清单 第300章 路面
A40: 子目号 | B40: 子 目 名 称 | C40: 单位 | D40: 数量 | E40: 单价 | F40: 合价
A41: 302 | B41: 垫层
A42: 302-1 | B42: 垫层
A43: -b | B43: 原有山皮石找平 | C43: ㎡ | D43: 1151.5 | F43: =E43*D43 -> 0
A44: 312 | B44: 水泥混凝土面板 | F44: =E44*D44 -> 0
A45: 312-1 | B45: 水泥混凝土面板 | F45: =E45*D45 -> 0
A46: -a | B46: 厚150mm(强度C30) | C46: m³ | D46: =1151.5*0.15 -> 172.725 | F46: =E46*D46 -> 0
A47: 312-2 | B47: 钢筋 | F47: =E47*D47 -> 0
A48: -a | B48: 光圆钢筋(HPB235、 HPB300) | C48: kg | D48: 113 | F48: =E48*D48 -> 0
A49: 313-1 | B49: 路肩培土 | C49: m³ | D49: 60.47 | F49: =E49*D49 -> 0
F50: =E50*D50 -> 0
F51: =E51*D51 -> 0
F52: =E52*D52 -> 0
F53: =E53*D53 -> 0
F54: =E54*D54 -> 0
F55: =E55*D55 -> 0
F56: =E56*D56 -> 0
F57: =E57*D57 -> 0
F59: =E59*D59 -> 0
F60: =E60*D60 -> 0
F61: =E61*D61 -> 0
F62: =E62*D62 -> 0
... F72: =E72*D72 -> 0
B74: 清单 第300章 合计 | D74: =SUM(F42:F49) -> 0

Sheet 【5.4表】-新农村道路工程
A1: 投标报价汇总表
A2: 合 同 段：新农村道路工程
A3: 序号 | B3: 章次 | C3: 科 目 名 称 | D3: 金额（元）
A4: 1 | B4: 100 | C4: 清单 第100章 总则 | D4: ='【5.1表】-新农村道路工程'!D36 -> 0
A5: 2 | B5: 300 | C5: 清单 第300章 路面 | D5: ='【5.1表】-新农村道路工程'!D74 -> 0
A6: 3 | B6: 第100章至300章清单合计 | D6: =SUM(D4:D5) -> 0
A7: 4 | B7: 已包含在清单合计中的材料、工程设备、专业工程暂估价合计
A8: 5 | B8: 清单合计减去材料、工程设备、专业工程暂估价 合计(即3-4)=5
A9: 6 | B9: 计日工合计
A10: 7 | B10: 暂列金额(不含计日工总额)
A11: 8 | B11: 投标报价(3+6+7)=8 | D11: =D6 -> 0

Sheet 【5.1表】-平安堡道路工程
A1: 工程量清单
A2: 合 同 段：平安堡道路工程 | E2: 货币单位：人民币 元
A3: 清单 第100章 总则
A4: 子目号 | B4: 子 目 名 称 | C4: 单位 | D4: 数量 | E4: 单价 | F4: 合价
A5: 101 | B5: 通则
A6: 101-1 | B6: 保险费
A7: -a | B7: 按合同条款规定，提供建筑工程一切险 | C7: 总额 | D7: 1 | E7: =(F9+F43+F82+F84+F87+F46+F47+F90)*0.003 -> 0 | F7: =E7*D7 -> 0
A8: 102 | B8: 工程管理
A9: 102-3 | B9: 安全生产费 | C9: 总额 | D9: 1 | F9: =E9*D9 -> 0
F11: =E11*D11 -> 0
B36: 清单 第100章 合计 | D36: =SUM(F5:F9) -> 0
A37: 工程量清单
A38: 合 同 段：平安堡道路工程 | E38: 货币单位：人民币 元
A39: 清单 第200章 路基
A40: 子目号 | B40: 子 目 名 称 | C40: 单位 | D40: 数量 | E40: 单价 | F40: 合价
A41: 202 | B41: 场地清理
A42: 202-2 | B42: 挖除旧路面(包含外运，运距投标人自行考虑）
A43: -b | B43: 沥青混凝土路面 | C43: m³ | D43: 253.364 | F43: =E43*D43 -> 0
A44: 203 | B44: 挖方路基 | F44: =E44*D44 -> 0
A45: 203-1 | B45: 路基挖方 | F45: =E45*D45 -> 0
A46: -b | B46: 挖除9CM素土基层(包含外运，运距投标人自行考虑） | C46: m³ | D46: 24.3 | F46: =E46*D46 -> 0
A47: -c | B47: 挖除30CM山皮石基层(包含外运，运距投标人自行考虑） | C47: m³ | D47: 81 | F47: =E47*D47 -> 0
F48: =E48*D48 -> 0
F50: =E50*D50 -> 0
F51: =E51*D51 -> 0
F52: =E52*D52 -> 0
F53: =E53*D53 -> 0
F54: =E54*D54 -> 0
F55: =E55*D55 -> 0
F57: =E57*D57 -> 0
F58: =E58*D58 -> 0
F59: =E59*D59 -> 0
F63: =E63*D63 -> 0
F66: =E66*D66 -> 0
... F73: =E73*D73 -> 0
B75: 清单 第200章 合计 | D75: =SUM(F41:F47) -> 0
A76: 工程量清单
A77: 合 同 段：平安堡道路工程 | E77: 货币单位：人民币 元
A78: 清单 第300章 路面
A79: 子目号 | B79: 子 目 名 称 | C79: 单位 | D79: 数量 | E79: 单价 | F79: 合价
...

Sheet 【5.4表】-平安堡道路工程
A1: 投标报价汇总表
A2: 合 同 段：平安堡道路工程
A3: 序号 | B3: 章次 | C3: 科 目 名 称 | D3: 金额（元）
A4: 1 | B4: 100 | C4: 清单 第100章 总则 | D4: ='【5.1表】-平安堡道路工程'!D36 -> 0
A5: 2 | B5: 200 | C5: 清单 第200章 路基 | D5: ='【5.1表】-平安堡道路工程'!D75 -> 0
A6: 3 | B6: 300 | C6: 清单 第300章 路面 | D6: ='【5.1表】-平安堡道路工程'!D113 -> 0
A7: 4 | B7: 第100章至300章清单合计 | D7: =SUM(D4:D6) -> 0
A8: 5 | B8: 已包含在清单合计中的材料、工程设备、专业工程暂估价合计
A9: 6 | B9: 清单合计减去材料、工程设备、专业工程暂估价 合计(即4-5)=6
A10: 7 | B10: 计日工合计
A11: 8 | B11: 暂列金额(不含计日工总额)
A12: 9 | B12: 投标报价(4+7+8)=9 | D12: =D7 -> 0
