Workbook

Sheet 说明
A1: 第五章 工程量清单
A2: 1.工程量清单说明
A3: 1.1本工程量清单是根据招标文件中包括的、有合同约束力的图纸以及有关工程量清单的国家标准、行业标准、合同条款中约定的工程量计算规则编制。约定计量规则中没有的子目，其工程量按照有合同约束力的图纸所标示尺寸的理论净量计算。计量采用中华人民共和国法定计量单位。
A4: 1.2本工程量清单应与招标文件中的投标人须知，通用合同条款、专用合同条款、技术规范及图纸等一起阅读和理解。
A5: 1.3本工程量清单中所列工程数量是估算的或设计的预计数量，仅作为投标报价的共同基础，不能作为最终结算与支付的依据。实际支付应按实际完成的工程量，由承包人按技术规范规定的计量方法，以监理人认可的尺寸、断面计量，按本工程量清单的单价和总额价计算支付金额;或者根据具体情况，按合同条款第15.4款的规定，由监理人确定的单价或总额价计算支付额。
A6: 1.4工程量清单各章是按第七章“技术规范”的相应章次编号的，因此，工程量清单中各章的工程子目的范围与计量等应与“技术规范”相应章节的范围、计量与支付条款结合起来理解或解释。
A7: 1.5对作业和材料的一般说明或规定，未重复写入工程量清单内，在给工程量清单各子目标价前，应参阅第七章“技术规范”的有关内容。
A8: 1.6工程量清单中所列工程量的变动，丝毫不会降低或影响合同条款的效力，也不免除承包人按规定的标准进行施工和修复缺陷的责任。
A9: 1.7图纸中所列的工程数量表及数量汇总表仅是提供资料，不是工程量清单的外延，图纸与工程量清单所列数量不一致时，以工程量清单所列数量作为报价的依据。
A10: 2.投标报价的说明
A11: 2.1工程量清单采取公路工程标准施工招标文件（2018年版本）。
A12: 2.2工程量清单中的每一子目（有数量）须填入单价或价格，且只允许有一个报价。
... A26: 4.5井口抬高工程中包含井底修复、井盖更换等，其附属工作不另行计量。

Sheet 第100章
A1: 清单 第100章 总则
A2: 工程名称：2026年公路修复性养护工程第五标段 货币单位: 人民币 元
A3: 细目录 | B3: 细目录名称 | C3: 单位 | D3: 数量 | E3: 单价(元) | F3: 合价(元)
A4: 101 | B4: 通则 | F4: =IF(E4>0,ROUND(D4*E4,0),"")
A5: 101-1 | B5: 保险费 | F5: =IF(E5>0,ROUND(D5*E5,0),"")
A6: -a | B6: 按合同条款规定，提供建筑工程一切险 | C6: 总额 | D6: 1 | E6: =IF(E10=0,0,ROUND(SUM(F9:F10,SUM(汇总表!E5:E10))*0.003,0)) -> 0 | F6: =IF(E6>0,ROUND(D6*E6,0),"")
A7: -b | B7: 按合同条款规定，提供第三者责任险 | C7: 总额 | D7: 1 | E7: =IF(E6=0,0,1000000*0.4%) -> 0 | F7: =IF(E7>0,ROUND(D7*E7,0),"")
A8: 102 | B8: 工程管理 | F8: =IF(E8>0,ROUND(D8*E8,0),"")
A9: 102-1 | B9: 竣工文件 | C9: 总额 | D9: 1 | F9: =IF(E9>0,ROUND(D9*E9,0),"")
A10: 102-3 | B10: 安全生产费 | C10: 总额 | D10: 1 | F10: =IF(E10>0,ROUND(D10*E10,0),"")
A11: 清单 第100章合计 人民币（元） | F11: =SUM(F4:F10) -> 0

Sheet 第200章
A1: 清单 第200章 路基
A2: 工程名称：2026年公路修复性养护工程第五标段 货币单位: 人民币 元
A3: 细目录 | B3: 细目录名称 | C3: 单位 | D3: 数量 | E3: 单价(元) | F3: 合价(元)
B4: C949下荒至小古山（K0+000-K3+005段）公路修复性养护工程
A5: 202 | B5: 场地清理
A6: 202-2 | B6: 挖除旧路面
A7: -a | B7: 铣刨旧水泥路面（0.5cm） | C7: m3 | D7: 68.3285 | F7: =D7*E7 -> 0
A8: -b | B8: 铣刨旧水泥路面（0.5cm-4.0cm） | C8: m2 | D8: 191 | F8: =D8*E8 -> 0
A9: -c | B9: 拆除水泥硬化50cm | C9: m3 | D9: 3.3 | F9: =D9*E9 -> 0
A10: -d | B10: 拆除混凝土板 | C10: m3 | D10: 134.4 | F10: =D10*E10 -> 0
A11: 202-3 | B11: 拆除结构物
A12: -c | B12: 拆除原有红砖硬化 | C12: m3 | D12: 0.9 | F12: =D12*E12 -> 0
A13: 207 | B13: 坡面排水
A14: 207-7 | B14: 铺砌
A15: -a | B15: C30砼修复红砖硬化 | C15: m3 | D15: 1.2 | F15: =D15*E15 -> 0
B16: C828马架子-三十家子（K0+000-K1+189段）公路修复性养护工程
A17: 202 | B17: 场地清理
A18: 202-2 | B18: 挖除旧路面
A19: -a | B19: 铣刨旧水泥路面（0.5cm） | C19: m3 | D19: 23.25 | F19: =D19*E19 -> 0
A20: -b | B20: 拆除混凝土板 | C20: m3 | D20: 33.2 | F20: =D20*E20 -> 0
A21: -c | B21: 铣刨旧水泥路面（0.5cm-4.0cm） | C21: m2 | D21: 35 | F21: =D21*E21 -> 0
B22: C080马架子至三十家子（K0+000-K1+157段）公路修复性养护工程
A23: 202 | B23: 场地清理
A24: 202-2 | B24: 挖除旧路面
A25: -a | B25: 铣刨旧水泥路面（0.5cm） | C25: m3 | D25: 26.265 | F25: =D25*E25 -> 0
A26: -b | B26: 拆除混凝土板 | C26: m3 | D26: 22.2 | F26: =D26*E26 -> 0
B27: C962马蹄营子至马架子（K0+000-K1+561段）公路修复性养护工程
A28: 202 | B28: 场地清理
A29: 202-2 | B29: 挖除旧路面
A30: -a | B30: 铣刨旧水泥路面（0.5cm） | C30: m3 | D30: 34.15 | F30: =D30*E30 -> 0
A31: -b | B31: 铣刨旧水泥路面（0.5cm-4.0cm） | C31: m2 | D31: 98 | F31: =D31*E31 -> 0
A32: -c | B32: 拆除混凝土板 | C32: m3 | D32: 193.1 | F32: =D32*E32 -> 0
A33: 202-3 | B33: 拆除结构物
A34: -b | B34: 拆除水泥混凝土 | C34: m3 | D34: 0.4 | F34: =D34*E34 -> 0
B35: C087马蹄营子-小孤山（K0+000-K1+872段）公路修复性养护工程
A36: 202 | B36: 场地清理
A37: 202-2 | B37: 挖除旧路面
A38: -a | B38: 铣刨旧水泥路面（0.5cm） | C38: m3 | D38: 15.18 | F38: =D38*E38 -> 0
A39: -b | B39: 铣刨旧沥青路（1.0cm） | C39: m3 | D39: 26.85 | F39: =D39*E39 -> 0
A40: -c | B40: 铣刨旧沥青路（1.0cm-4.0cm） | C40: m2 | D40: 50 | F40: =D40*E40 -> 0
...

Sheet 第300章
A1: 清单 第300章 路面
A2: 工程名称：2026年公路修复性养护工程第五标段 货币单位: 人民币 元
A3: 细目录 | B3: 细目录名称 | C3: 单位 | D3: 数量 | E3: 单价(元) | F3: 合价(元)
B4: C949下荒至小古山（K0+000-K3+005段）公路修复性养护工程
A5: 308 | B5: 透层和黏层
A6: 308-2 | B6: 粘层油 | C6: m2 | D6: 13951.7 | F6: =D6*E6 -> 0
A7: 309 | B7: 热拌沥青混合料面层
A8: 309-1 | B8: 细粒式沥青混凝土
A9: -a | B9: 4cm AC-13细粒式沥青混凝土面层 | C9: m2 | D9: 13855.7 | F9: =D9*E9 -> 0
A10: -b | B10: 3.5cm厚沥青混凝土顺接 | C10: m2 | D10: 95.6 | F10: =D10*E10 -> 0
A11: 312 | B11: 水泥混凝土面板
A12: 312-1 | B12: 水泥混凝土面板
A13: -a | B13: 18cm厚C35水泥混凝土面板 | C13: m3 | D13: 134.46 | F13: =D13*E13 -> 0
A14: 313 | B14: 路肩培土、中央分隔带回填土、土路肩加 固及路缘石
A15: 313-1 | B15: 路肩培土
A16: -a | B16: 均厚10cm天然砂砾陪路肩 | C16: m3 | D16: 80.8 | F16: =D16*E16 -> 0
A17: -b | B17: 均厚15cm天然砂砾陪路肩 | C17: m3 | D17: 332.4 | F17: =D17*E17 -> 0
A18: 313-3 | B18: C30混凝土修复30cm硬化 | C18: m3 | D18: 2 | F18: =D18*E18 -> 0
A19: 313-5 | B19: C30混凝土路缘石 | C19: m3 | D19: 50.7 | F19: =D19*E19 -> 0
A20: 315 | B20: 热沥青灌封 | C20: m | D20: 1001 | F20: =D20*E20 -> 0
B21: C828马架子-三十家子（K0+000-K1+189段）公路修复性养护工程
A22: 308 | B22: 透层和黏层
A23: 308-2 | B23: 粘层油 | C23: m2 | D23: 4685 | F23: =D23*E23 -> 0
A24: 309 | B24: 热拌沥青混合料面层
A25: 309-1 | B25: 细粒式沥青混凝土
A26: -a | B26: 4cm AC-13细粒式沥青混凝土面层 | C26: m2 | D26: 4685 | F26: =D26*E26 -> 0
A27: 312 | B27: 水泥混凝土面板
A28: 312-1 | B28: 18cm水泥混凝土面板
A29: -a | B29: 18cm厚C35水泥混凝土面板 | C29: m3 | D29: 33.3 | F29: =D29*E29 -> 0
A30: 313 | B30: 路肩培土、中央分隔带回填土、土路肩加 固及路缘石
A31: 313-1 | B31: 均厚5cm天然砂砾陪路肩 | C31: m3 | D31: 59.4 | F31: =D31*E31 -> 0
A32: 313-5 | B32: C30混凝土路缘石 | C32: m3 | D32: 19.9 | F32: =D32*E32 -> 0
A33: 315 | B33: 热沥青灌封 | C33: m | D33: 360 | F33: =D33*E33 -> 0
B34: C080马架子至三十家子（K0+000-K1+157段）公路修复性养护工程
A35: 308 | B35: 透层和黏层
A36: 308-2 | B36: 粘层油 | C36: m2 | D36: 5253 | F36: =D36*E36 -> 0
A37: 309 | B37: 热拌沥青混合料面层
A38: 309-1 | B38: 细粒式沥青混凝土
A39: -a | B39: 4cm AC-13细粒式沥青混凝土面层 | C39: m2 | D39: 5253 | F39: =D39*E39 -> 0
A40: 312 | B40: 水泥混凝土面板
...

Sheet 第400章
A1: 清单 第400章 桥梁、涵洞
A2: 工程名称：C962马蹄营子至马架子（K0+000-K1+561段）公路修复性养护工程 货币单位: 人民币 元
A3: 细目录 | B3: 细目录名称 | C3: 单位 | D3: 数量 | E3: 单价(元) | F3: 合价(元)
B4: C962马蹄营子至马架子（K0+000-K1+561段）公路修复性养护工程
A5: 419 | B5: 圆管涵及倒虹吸管涵
A6: 419-1 | B6: 单孔钢筋混凝土圆管涵
A7: -a | B7: C30混凝土修复 | C7: m3 | D7: 0.6 | F7: =D7*E7 -> 0
A8: 422 | B8: 井口抬高（包括井盖换新） | C8: 个 | D8: 1 | F8: =D8*E8 -> 0
A9: 清单 第400章合计 人民币（元） | F9: =SUM(F4:F8) -> 0

Sheet 第600章
A1: 清单 第600章 安全设施及预埋管线
A2: 工程名称：C962马蹄营子至马架子（K0+000-K1+561段）公路修复性养护工程 货币单位: 人民币 元
A3: 细目录 | B3: 细目录名称 | C3: 单位 | D3: 数量 | E3: 单价(元) | F3: 合价(元)
B4: C949下荒至小古山（K0+000-K3+005段）公路修复性养护工程
A5: 604 | B5: 道路交通标志
A6: 604-1 | B6: 单柱式交通标志
A7: -a | B7: 警告标志△700（新建） | C7: 块 | D7: 7 | F7: =D7*E7 -> 0
A8: 602 | B8: 护栏
A9: 602-1 | B9: 玻璃钢（护墙、立柱）
A10: -a | B10: 玻璃钢警示柱 | C10: 根 | D10: 4 | F10: =D10*E10 -> 0
B11: C828马架子-三十家子（K0+000-K1+189段）公路修复性养护工程
A12: 604 | B12: 道路交通标志
A13: 604-1 | B13: 单柱式交通标志
A14: -a | B14: 警告标志△700（新建） | C14: 块 | D14: 4 | F14: =D14*E14 -> 0
B15: C080马架子至三十家子（K0+000-K1+157段）公路修复性养护工程
A16: 604 | B16: 道路交通标志
A17: 604-1 | B17: 单柱式交通标志
A18: -a | B18: 警告标志△700（新建） | C18: 块 | D18: 4 | F18: =D18*E18 -> 0
A19: -b | B19: 禁令标志D600 | C19: 块 | D19: 1 | F19: =D19*E19 -> 0
A20: 602 | B20: 护栏
A21: 602-1 | B21: 玻璃钢（护墙、立柱）
A22: -a | B22: 玻璃钢警示柱 | C22: 根 | D22: 4 | F22: =D22*E22 -> 0
B23: C962马蹄营子至马架子（K0+000-K1+561段）公路修复性养护工程
A24: 604 | B24: 道路交通标志
A25: 604-1 | B25: 单柱式交通标志
A26: -a | B26: 警告标志△700（新建） | C26: 块 | D26: 4 | F26: =D26*E26 -> 0
B27: C087马蹄营子-小孤山（K0+000-K1+872段）公路修复性养护工程
A28: 604 | B28: 道路交通标志
A29: 604-1 | B29: 单柱式交通标志
A30: -a | B30: 警告标志△700（新建） | C30: 块 | D30: 4 | F30: =D30*E30 -> 0
A31: 清单 第600章合计 人民币（元） | F31: =SUM(F4:F30) -> 0

Sheet 汇总表
A1: 投标报价汇总表
A2: 工程名称：C962马蹄营子至马架子（K0+000-K1+561段）公路修复性养护工程 货币单位: 人民币 元
A3: 序号 | B3: 章次 | C3: 科 目 名 称 | E3: 金额（元）
A4: 1 | B4: 100 | C4: 总则 | E4: =第100章!F11 -> 0
A5: 2 | B5: 200 | C5: 路基 | E5: =第200章!F54 -> 0
A6: 3 | B6: 300 | C6: 路面 | E6: =第300章!F78 -> 0
A7: 4 | B7: 400 | C7: 桥梁、涵洞 | E7: =第400章!F9 -> 0
A8: 5 | B8: 500 | C8: 隧道
A9: 6 | B9: 600 | C9: 安全设施及预埋管线 | E9: =第600章!F31 -> 0
A10: 7 | B10: 700 | C10: 绿化及环境保护设施
A11: 8 | B11: 第100章至700章清单合计 | E11: =E4+E5+E6+E7+E8+E9+E10 -> 0
A12: 9 | B12: 已包含在清单合计中的材料、工程设备、专业工程暂估价合计
A13: 10 | B13: 清单合计减去材料、工程设备、专业工程暂估价 合计（即8-9）=10 | E13: =E11-E12 -> 0
A14: 11 | B14: 计日工合计 | E14: 0
A15: 12 | B15: 暂列金额（不含计日工总额）
A16: 13 | B16: 投标报价（8+11+12） | E16: =E11+E14+E15 -> 0
