Workbook
Name _PE20: #REF!
Name _PE40: #REF!
Name _PVC11008: #REF!
Name _PVC16008: #REF!
Name _PVC20008: #REF!
Name _PVC25008: #REF!
Name _PVC31508: #REF!
Name _PVC9006: #REF!
Name _PVC9008: #REF!
Name 板枋材: #REF!
Name 板枋材kg: #REF!
Name 板枋材m3: #REF!
Name 变电构架安装__离心杆构架独: [1]定额!#REF!
Name 变电构架安装离心杆构架: [2]定额!#REF!
Name 变径11090: #REF!
Name 变径160110: #REF!
Name 变径16090: #REF!
Name 变径200125: #REF!
Name 变径200160: #REF!
Name 变径250125: #REF!
Name 变径250200: #REF!
Name 变径250300: #REF!
Name 变径315200: #REF!
Name 变径315250: #REF!
Name 标准砖: #REF!
Name 补充: [3]附表4单价!#REF!
Name 不可预见费: #REF!
Name 不可预见费南: '[6]表6不可预见费南 '!$H$10
Name 插入式振动器2.2kw: [4]附表3机械!$K$56
Name 柴油: #REF!
Name 承插式三通: #REF!
Name 刺槐: #REF!
Name 滴头: #REF!
Name 电: #REF!
Name 电焊机交流30kVA: [4]附表3机械!$K$120
Name 电焊条: #REF!
Name 定额编号_1213: #REF!
Name 定额编号_2154: #REF!
Name 定额编号_3007: #REF!
Name 定额编号_4067: #REF!
Name 定额编号_4069: #REF!
Name 定额编号_6091: #REF!
Name 定额编号_6093: #REF!
Name 定额编号_8020: #REF!
Name 定额编号_8243: #REF!
Name 镀锌铁皮0.35: #REF!
Name 风: #REF!
Name 风砂水枪: [5]附表3机械台班计算表!$K$36
Name 钢板: #REF!
Name 钢管200: #REF!
Name 钢管250: #REF!
Name 钢管300: #REF!
Name 钢筋10上: '[3]附表2-1主材'!$L$7
Name 钢筋10下: '[3]附表2-1主材'!$L$6
Name 钢筋砼管1000: #REF!
Name 钢筋砼管300: #REF!
Name 钢筋砼管400: #REF!
Name 钢筋砼管500: #REF!
Name 钢筋砼管600: #REF!
Name 钢筋砼管800: #REF!

Sheet 建筑工程概算表
A1: 工程量清单
A2: 序号 | B2: 工程或费用名称 | C2: 单位 | D2: 数量 | E2: 备注
B3: 第一部分 建筑工程
A4: 一 | B4: 输水管线工程
A5: （一） | B5: 管线工程 | C5: m | D5: 2405
B6: 土方开挖（IV类土） | C6: m³ | D6: 5357.14
B7: 石方开挖（V-Ⅷ类） | C7: m³ | D7: 1785.71
B8: 人工筛分砂石料（三层筛） | C8: m³ | D8: 1842.23
B9: 土方回填及压实(粉细砂回填/管顶0.5m范围内) | C9: m³ | D9: 2711.34
B10: 石方回填 | C10: m³ | D10: 1785.71
A11: （二） | B11: 管线附属小型建筑物
A12: 1 | B12: 镇墩 | C12: 座 | D12: 4
B13: C25混凝土镇墩（厚60cm/商品混凝土/泵送) | C13: m³ | D13: 2.05
B14: 模版制安（一般） | C14: ㎡ | D14: 9.92
A15: 2 | B15: 集水井（无砂混凝土） | C15: 座 | D15: 1
B16: 土方开挖（IV类土） | C16: m³ | D16: 17.25
B17: 石方开挖（V-Ⅷ类） | C17: m³ | D17: 17.85
B18: 土方回填及压实 | C18: m³ | D18: 14.66
B19: 石方回填 | C19: m³ | D19: 17.85
B20: C20混凝土垫层（厚20cm/商品混凝土/泵送) | C20: m³ | D20: 0.51
B21: 铺筑反滤料（人工） | C21: m³ | D21: 5.02
B22: 无砂混凝土管安装（内径1.2m/购置、运输及安装) | C22: m | D22: 2.5
B23: 模版制安（一般） | C23: ㎡ | D23: 1.28
A24: 3 | B24: 排气补气井（D=1.5m） | C24: 座 | D24: 4
B25: 土方开挖（IV类土） | C25: m³ | D25: 205.56
B26: 石方开挖（V-Ⅷ类） | C26: m³ | D26: 102.76
B27: 土方回填及压实 | C27: m³ | D27: 174.73
B28: 石方回填 | C28: m³ | D28: 102.76
B29: C20混凝土垫层（厚10cm/商品混凝土/泵送) | C29: m³ | D29: 2.92
B30: C25钢筋混凝土底板（厚35cm/商品混凝土、F200、W6/泵送) | C30: m³ | D30: 8.76
B31: C25混凝土支墩（厚30cm/商品混凝土/泵送) | C31: m³ | D31: 0.36
B32: C25钢筋混凝土井身（厚25cm/商品混凝土、F200、W6//泵送) | C32: m³ | D32: 16.44
B33: C25钢筋混凝土顶板（厚25cm/商品混凝土、F200、W6/泵送) | C33: m³ | D33: 2.84
B34: 模版制安（一般） | C34: ㎡ | D34: 170.19
B35: 遇水膨胀橡胶止水带（20mm×30mm） | C35: m | D35: 20.12
B36: 球墨铸铁井盖（轻型φ700） | C36: 套 | D36: 4
... B39: 钢筋制安（含钢爬梯） | C39: t | D39: 5.52
A40: 4 | B40: 排沙闸阀井 | C40: 座 | D40: 1
B41: 土方开挖（IV类土） | C41: m³ | D41: 166.78
B42: 石方开挖（V-Ⅷ类） | C42: m³ | D42: 250.16
...

Sheet 机电设备及安装工程概算表
A1: 机电设备及安装工程概算表
A2: 编号 | B2: 名称及规格 | C2: 单位 | D2: 数量 | E2: 单价(元) | G2: 合价(万元) | I2: 备注
E3: 设备费 | F3: 安装费 | G3: 设备费 | H3: 安装费
B4: 第二部分 机电设备及安装工程

Sheet 配合比
A1: 混凝土及砂浆配合比计算表
A4: 编号 | B4: 砼或砂浆标号 | C4: 水泥标号 | D4: 砼级配 | E4: 水泥 | G4: 砂子 | I4: 石子 | K4: 水 | M4: 膨胀剂 | O4: 单价
E5: 定额 | F5: 数量 | G5: 定额 | H5: 数量 | I5: 定额 | J5: 数量 | K5: 定额 | L5: 数量 | M5: 定额 | N5: 数量
A6: 1 | B6: C10砼 | C6: 42.5 | D6: 4 | E6: =0.152*1.1*1.07*0.86 -> 0.154 | F6: =E6*IF(#REF!>=255,255,#REF!) -> #REF! | G6: =0.37*1.1*0.98 -> 0.399 | H6: =G6*IF(#REF!>=70,70,#REF!) -> #REF! | I6: =1.05*1.06*0.98 -> 1.09 | J6: =I6*IF(#REF!>=70,70,#REF!) -> #REF! | K6: =0.11*1.1*1.07 -> 0.129 | L6: =K6*#REF! -> #REF! | O6: =L6+J6+H6+F6 -> #REF!
A7: 2 | B7: C15砼 | C7: 42.5 | D7: 2 | E7: =0.242*1.1*1.07*0.86 -> 0.245 | F7: =E7*IF(#REF!>=255,255,#REF!) -> #REF! | G7: =0.52*1.1*0.98 -> 0.561 | H7: =G7*IF(#REF!>=70,70,#REF!) -> #REF! | I7: =0.81*1.06*0.98 -> 0.841 | J7: =I7*IF(#REF!>=70,70,#REF!) -> #REF! | K7: =0.15*1.1*1.07 -> 0.177 | L7: =K7*#REF! -> #REF! | O7: =L7+J7+H7+F7 -> #REF!
A8: 3 | B8: C20砼 | C8: 42.5 | D8: 2 | E8: =0.261*1.1*1.07 -> 0.307 | F8: =E8*IF(#REF!>=255,255,#REF!) -> #REF! | G8: =0.51*1.1*0.98 -> 0.55 | H8: =G8*IF(#REF!>=70,70,#REF!) -> #REF! | I8: =0.81*1.06*0.98 -> 0.841 | J8: =I8*IF(#REF!>=70,70,#REF!) -> #REF! | K8: =0.15*1.1*1.07 -> 0.177 | L8: =#REF!*K8 -> #REF! | O8: =L8+J8+H8+F8 -> #REF!
A9: 4 | B9: C20砼 | C9: 42.5 | D9: 2 | E9: =0.261*1.1*1.07 -> 0.307 | F9: =F8 -> #REF! | G9: =G8 -> 0.55 | H9: =H8 -> #REF! | I9: =I8 -> 0.84 | J9: =J8 -> #REF! | K9: =K8 -> 0.18 | L9: =L8 -> #REF! | M9: =E9*0.1 -> 0.03 | N9: =M9*900 -> 27 | O9: =L9+J9+H9+F9+N9 -> #REF!
A10: 4 | B10: C25砼 | C10: 42.5 | D10: 2 | E10: =0.289*1.1*1.07 -> 0.34 | F10: =E10*IF(#REF!>=255,255,#REF!) -> #REF! | G10: =0.49*1.1*0.98 -> 0.528 | H10: =G10*IF(#REF!>=70,70,#REF!) -> #REF! | I10: =0.81*1.06*0.98 -> 0.841 | J10: =I10*IF(#REF!>=70,70,#REF!) -> #REF! | K10: =0.15*1.1*1.07 -> 0.177 | L10: =#REF!*K10 -> #REF! | O10: =L10+J10+H10+F10 -> #REF!
A11: 5 | B11: C30砼 | C11: 42.5 | D11: 2 | E11: =0.31*1.1*1.07 -> 0.365 | F11: =E11*IF(#REF!>=255,255,#REF!) -> #REF! | G11: =0.47*1.1*0.98 -> 0.507 | H11: =G11*IF(#REF!>=70,70,#REF!) -> #REF! | I11: =0.81*1.06*0.98 -> 0.841 | J11: =I11*IF(#REF!>=70,70,#REF!) -> #REF! | K11: =0.15*1.1*1.07 -> 0.177 | L11: =K11*#REF! -> #REF! | O11: =L11+J11+H11+F11 -> #REF!
A12: 6 | B12: C30砼 | C12: 42.5 | D12: 2 | E12: =0.31*1.1*1.07 -> 0.365 | F12: =E12*IF(#REF!>=255,255,#REF!) -> #REF! | G12: =0.47*1.1*0.98 -> 0.507 | H12: =G12*IF(#REF!>=70,70,#REF!) -> #REF! | I12: =0.81*1.06*0.98 -> 0.841 | J12: =I12*IF(#REF!>=70,70,#REF!) -> #REF! | K12: =0.15*1.1*1.07 -> 0.177 | L12: =K12*#REF! -> #REF! | M12: =E12*0.1 -> 0.04 | N12: =M12*900 -> 36 | O12: =L12+J12+H12+F12+N12 -> #REF!
A13: 7 | B13: C35砼 | C13: 42.5 | D13: 2 | E13: =0.343*1.1*1.07 -> 0.404 | F13: =E13*IF(#REF!>=255,255,#REF!) -> #REF! | G13: =0.45*1.1*0.98 -> 0.485 | H13: =G13*IF(#REF!>=70,70,#REF!) -> #REF! | I13: =0.81*1.06*0.98 -> 0.841 | J13: =I13*IF(#REF!>=70,70,#REF!) -> #REF! | K13: =0.15*1.1*1.07 -> 0.177 | L13: =K13*#REF! -> #REF! | O13: =L13+J13+H13+F13 -> #REF!
A14: 8 | B14: C40砼 | C14: 42.5 | D14: 2 | E14: =0.384*1.1*1.07 -> 0.452 | F14: =E14*IF(#REF!>=255,255,#REF!) -> #REF! | G14: =0.46*1.1*0.98 -> 0.496 | H14: =G14*IF(#REF!>=70,70,#REF!) -> #REF! | I14: =0.79*1.06*0.98 -> 0.821 | J14: =I14*IF(#REF!>=70,70,#REF!) -> #REF! | K14: =0.15*1.1*1.07 -> 0.177 | L14: =K14*#REF! -> #REF! | O14: =L14+J14+H14+F14 -> #REF!
A15: 9 | B15: M10砂浆 | E15: =0.305*0.86 -> 0.26 | F15: =E15*IF(#REF!>=255,255,#REF!) -> #REF! | G15: 1.1 | H15: =G15*IF(#REF!>=70,70,#REF!) -> #REF! | K15: 0.183 | L15: =K15*#REF! -> #REF! | O15: =L15+J15+H15+F15 -> #REF!
A16: 10 | B16: M7.5砂浆 | E16: =0.261*0.86 -> 0.22 | F16: =E16*IF(#REF!>=255,255,#REF!) -> #REF! | G16: 1.11 | H16: =G16*IF(#REF!>=70,70,#REF!) -> #REF! | K16: 0.157 | L16: =K16*#REF! -> #REF! | O16: =L16+J16+H16+F16 -> #REF!
A17: 11 | B17: M5砂浆 | E17: =0.211*0.86 -> 0.18 | F17: =E17*IF(#REF!>=255,255,#REF!) -> #REF! | G17: 1.13 | H17: =G17*IF(#REF!>=70,70,#REF!) -> #REF! | K17: 0.127 | L17: =K17*#REF! -> #REF! | O17: =L17+J17+H17+F17 -> #REF!

Sheet 取费表
A1: 具体取费标准如下表： | K1: 项 目 | L1: 计算基础 | M1: 建筑工程费率（%）
A2: 引水工程小型取费表 | K2: 冬雨季施工增加费 | L2: 基本直接费 | M2: 2
A3: 序号 | B3: 名 称 | C3: 其他直接费 | D3: 间接费 | E3: 利润 | F3: 税 金 | G3: 备注 | K3: 夜间施工增加费 | L3: 基本直接费 | M3: 0.3
A4: 一 | B4: 建筑工程 | K4: 临时设施费 | L4: 基本直接费 | M4: 2.5
A5: 1 | B5: 土方工程 | C5: 0.056 | D5: 0.18 | E5: 0.07 | F5: 0.09 | K5: 其 它 | L5: 基本直接费 | M5: 0.8
A6: 2 | B6: 石方工程 | C6: =C5 -> 0.056 | D6: 0.18 | E6: =E5 -> 0.07 | F6: 0.09 | K6: 小 计 | M6: =SUM(M2:M5) -> 5.6
A7: 3 | B7: 砌筑工程 | C7: =C6 -> 0.056 | D7: 0.06 | E7: 0.07 | F7: 0.09
A8: 4 | B8: 混凝土浇筑工程 | C8: =C7 -> 0.056 | D8: 0.18 | E8: 0.07 | F8: 0.09
A9: 5 | B9: 模板工程 | C9: =C8 -> 0.056 | D9: 0.1 | E9: =E5 -> 0.07 | F9: 0.09
A10: 6 | B10: 钢筋工程 | C10: =C9 -> 0.056 | D10: 0.04 | E10: =E5 -> 0.07 | F10: 0.09
A11: 7 | B11: 砂石备料工程 | C11: 0.005 | D11: 0.06 | E11: =E5 -> 0.07 | F11: 0.09
A12: 8 | B12: 钻孔灌浆工程 | C12: =C10 -> 0.056 | D12: 0.05 | E12: =E5 -> 0.07 | F12: 0.09
A13: 9 | B13: 锚固工程 | C13: =C12 -> 0.056 | D13: 0.1 | E13: =E5 -> 0.07 | F13: 0.09
A14: 10 | B14: 掘进机施工隧洞工程 | C14: 0.02 | D14: 0.03 | E14: =E5 -> 0.07 | F14: 0.09
A15: 11 | B15: 疏浚工程 | C15: =C5 -> 0.056 | D15: 0.06 | E15: =E5 -> 0.07 | F15: 0.09
A16: 12 | B16: 其他工程 | C16: =C15 -> 0.056 | D16: 0.1 | E16: =E5 -> 0.07 | F16: 0.09
A17: 二 | B17: 安装工程 | C17: =C16 -> 0.056 | D17: 0.6 | E17: 0.07 | F17: 0.09
A18: 1 | B18: 设备安装工程 | C18: =C17 -> 0.056 | D18: =D17 -> 0.6 | E18: =E17 -> 0.07 | F18: =F17 -> 0.09
A19: 2 | B19: 管道安装工程 | C19: =C17 -> 0.056 | D19: =D17 -> 0.6 | E19: =E17 -> 0.07 | F19: =F17 -> 0.09

Sheet 补
A1: 项目名称：建筑物土方回填
A2: 定额编号：补1238 | F2: 单位：100m3
A3: 工作内容：回填土方，机械夯实
A4: 编号 | B4: 名称及规格 | C4: 单位 | D4: 数量 | E4: 单价 | F4: 合价
A5: 一 | B5: 直接费 | F5: =F6+F13+F14 -> #REF!
A6: (一) | B6: 基本直接费 | F6: =F7+F11+F12 -> #REF!
A7: 1 | B7: 人工费 | F7: =SUM(F8:F9) -> 1343.59
B8: 技工 | C8: 工时 | D8: 4.6 | E8: 8.1 | F8: =E8*D8 -> 37.26
B9: 普工 | C9: 工时 | D9: 226.4 | E9: 5.77 | F9: =E9*D9 -> 1306.33
A10: 2 | B10: 机械使用费 | F10: =F11 -> #REF!
B11: 蛙式夯实机 | C11: 台时 | D11: 14.4 | E11: =#REF! -> #REF! | F11: =E11*D11 -> #REF!
A12: 3 | B12: 零星材料费 | C12: % | D12: 5 | E12: =F7+F10 -> #REF! | F12: =(F7+F11)*D12/100 -> #REF!
A13: (二) | B13: 其它直接费 | C13: 0.055 | F13: =C13*F6 -> #REF!
A15: 二 | B15: 间接费 | C15: 0.04 | F15: =C15*F5 -> #REF!
A16: 三 | B16: 企业利润 | C16: 0.07 | F16: =C16*(F5+F15) -> #REF!
A17: 四 | B17: 税 金 | C17: 0.09 | F17: =C17*(F5+F15+F16) -> #REF!
B19: 合计 | F19: =F5++F15+F16+F17 -> #REF!
A20: 五 | B20: 阶段系数 | C20: =[93]取费表!I25 -> #REF! | F20: =F19*C20 -> #REF!
B21: 总计 | F21: =F19+F20 -> #REF!
A23: 项目名称：人工修整边坡（填方边坡）
A24: 定额编号：补1262 | E24: 单位：100㎡
A25: 编号 | B25: 名称及规格 | C25: 单位 | D25: 数量 | E25: 单价 | F25: 合价
A26: 一 | B26: 直接费 | F26: =F27+F32 -> 106.74
A27: （一） | B27: 基本直接费 | F27: =F28+F30 -> 101.18
A28: 1 | B28: 人工费 | F28: =F29 -> 96.36
B29: 普工 | C29: 工时 | D29: 16.7 | E29: 5.77 | F29: =E29*D29 -> 96.36
A30: 2 | B30: 零星材料费 | C30: ％ | D30: 5 | F30: =F29*D30/100 -> 4.82
A32: （二） | B32: 其他直接费 | C32: 0.055 | F32: =F27*C32 -> 5.56
A34: 二 | B34: 间接费 | C34: 0.04 | F34: =F26*C34 -> 4.27
A35: 三 | B35: 企业利润 | C35: 0.07 | F35: =(F26+F34)*C35 -> 7.77
A36: 四 | B36: 材差
A37: 五 | B37: 税金 | C37: 0.09 | F37: =(F26+F34+F35)*C37 -> 10.69
B39: 合计 | F39: =F26+F34+F35+F37 -> 129.47
A40: 六 | B40: 阶段系数 | C40: 0.03 | F40: =F39*C40 -> 3.88
B41: 总计 | F41: =F39+F40 -> 133.35
A43: 项目名称：浆砌石护底 石
A44: 定额编号：补JYB1603 | F44: 单位：100M3
A45: 工作内容：块石转运、拌浆、砌筑、勾缝、养护等。
A46: 编 号 | B46: 名 称 及 规 格 | C46: 单 位 | D46: 数 量 | E46: 单价 | F46: 合价
A47: 一 | B47: 直接工程费 | F47: =F48+F62+F63 -> #REF!
...

Sheet 管材价格
A1: PVC-U管材价格表 | J1: PVC-U管材价格表 | S1: PVC-U管材重量表 | Z1: 单位：kg/m
E2: 单价: | F2: =O2 -> 10500 | G2: 元/t | H2: 单位:元/km | N2: 单价: | O2: 10500 | P2: 元/t | Q2: 单位:元/m | R2: =O2/1000*AA5 -> 2.18715
A3: 公称外径(dn) | C3: 公 称 压 力 | J3: 公称外径(dn) | L3: 公 称 压 力 | S3: 公 称外径(dn) | T3: 公 称 压 力
B4: 0.32Mpa | C4: 0.63Mpa | D4: 0.8 Mpa | E4: 1.0 Mpa | F4: 1.25Mpa | G4: 1.6 Mpa | H4: 2.0 Mpa | I4: 2.5 Mpa | K4: 0.32Mpa | L4: 0.63Mpa | M4: 0.8 Mpa | N4: 1.0 Mpa | O4: 1.25Mpa | P4: 1.6 Mpa | Q4: 2.0 Mpa | R4: 2.5 Mpa | T4: 0.32Mpa | U4: 0.63Mpa | V4: 0.8 Mpa | W4: 1.0 Mpa | X4: 1.25Mpa | Y4: 1.6 Mpa | Z4: 2.0 Mpa | AA4: 2.5 Mpa
A5: ￠20 | H5: =Q5*1000 -> 1920 | I5: =R5*1000 -> 2190 | J5: ￠20 | Q5: =ROUND($O$2*Z5/1000,2) -> 1.92 | R5: =ROUND($O$2*AA5/1000,2) -> 2.19 | S5: ￠20 | Z5: 0.1833 | AA5: 0.2083
A6: ￠25 | G6: =P6*1000 -> 2430 | H6: =Q6*1000 -> 2810 | I6: =R6*1000 -> 3290 | J6: ￠25 | P6: =ROUND($O$2*Y6/1000,2) -> 2.43 | Q6: =ROUND($O$2*Z6/1000,2) -> 2.81 | R6: =ROUND($O$2*AA6/1000,2) -> 3.29 | S6: ￠25 | Y6: 0.2311 | Z6: 0.268 | AA6: 0.3135
A7: ￠32 | F7: =O7*1000 -> 3180 | G7: =P7*1000 -> 3770 | H7: =Q7*1000 -> 4470 | I7: =R7*1000 -> 5390 | J7: ￠32 | O7: =ROUND($O$2*X7/1000,2) -> 3.18 | P7: =ROUND($O$2*Y7/1000,2) -> 3.77 | Q7: =ROUND($O$2*Z7/1000,2) -> 4.47 | R7: =ROUND($O$2*AA7/1000,2) -> 5.39 | S7: ￠32 | X7: 0.3026 | Y7: 0.3589 | Z7: 0.4258 | AA7: 0.5134
A8: ￠40 | E8: =N8*1000 -> 4030 | F8: =O8*1000 -> 4800 | G8: =P8*1000 -> 5800 | H8: =Q8*1000 -> 7100 | I8: =R8*1000 -> 8410 | J8: ￠40 | N8: =ROUND($O$2*W8/1000,2) -> 4.03 | O8: =ROUND($O$2*X8/1000,2) -> 4.8 | P8: =ROUND($O$2*Y8/1000,2) -> 5.8 | Q8: =ROUND($O$2*Z8/1000,2) -> 7.1 | R8: =ROUND($O$2*AA8/1000,2) -> 8.41 | S8: ￠40 | W8: 0.3841 | X8: 0.4574 | Y8: 0.5521 | Z8: 0.6761 | AA8: 0.8005
A9: ￠50 | D9: =M9*1000 -> 5130 | E9: =N9*1000 -> 6120 | F9: =O9*1000 -> 7420 | G9: =P9*1000 -> 9330 | H9: =Q9*1000 -> 11060 | I9: =R9*1000 -> 13180 | J9: ￠50 | M9: =ROUND($O$2*V9/1000,2) -> 5.13 | N9: =ROUND($O$2*W9/1000,2) -> 6.12 | O9: =ROUND($O$2*X9/1000,2) -> 7.42 | P9: =ROUND($O$2*Y9/1000,2) -> 9.33 | Q9: =ROUND($O$2*Z9/1000,2) -> 11.06 | R9: =ROUND($O$2*AA9/1000,2) -> 13.18 | S9: ￠50 | V9: 0.4887 | W9: 0.5829 | X9: 0.7063 | Y9: 0.8889 | Z9: 1.0531 | AA9: 1.2556
A10: ￠63 | C10: =L10*1000 -> 6570 | D10: =M10*1000 -> 8100 | E10: =N10*1000 -> 9490 | F10: =O10*1000 -> 11800 | G10: =P10*1000 -> 14430 | H10: =Q10*1000 -> 17620 | I10: =R10*1000 -> 21030 | J10: ￠63 | L10: =ROUND($O$2*U10/1000,2) -> 6.57 | M10: =ROUND($O$2*V10/1000,2) -> 8.1 | N10: =ROUND($O$2*W10/1000,2) -> 9.49 | O10: =ROUND($O$2*X10/1000,2) -> 11.8 | P10: =ROUND($O$2*Y10/1000,2) -> 14.43 | Q10: =ROUND($O$2*Z10/1000,2) -> 17.62 | R10: =ROUND($O$2*AA10/1000,2) -> 21.03 | S10: ￠63 | U10: 0.626 | V10: 0.7714 | W10: 0.9036 | X10: 1.1237 | Y10: 1.3743 | Z10: 1.6777 | AA10: 2.0029
A11: ￠75 | B11: =K11*1000 -> 5880 | C11: =L11*1000 -> 9040 | D11: =M11*1000 -> 11080 | E11: =N11*1000 -> 13570 | F11: =O11*1000 -> 16650 | G11: =P11*1000 -> 20420 | H11: =Q11*1000 -> 25040 | I11: =R11*1000 -> 29690 | J11: ￠75 | K11: =ROUND($O$2*T11/1000,2) -> 5.88 | L11: =ROUND($O$2*U11/1000,2) -> 9.04 | M11: =ROUND($O$2*V11/1000,2) -> 11.08 | N11: =ROUND($O$2*W11/1000,2) -> 13.57 | O11: =ROUND($O$2*X11/1000,2) -> 16.65 | P11: =ROUND($O$2*Y11/1000,2) -> 20.42 | Q11: =ROUND($O$2*Z11/1000,2) -> 25.04 | R11: =ROUND($O$2*AA11/1000,2) -> 29.69 | S11: ￠75 | T11: 0.56 | U11: 0.8611 | V11: 1.0553 | W11: 1.2924 | X11: 1.5857 | Y11: 1.9443 | Z11: 2.3843 | AA11: 2.8278
A12: ￠90 | B12: =K12*1000 -> 8680 | C12: =L12*1000 -> 12990 | D12: =M12*1000 -> 16040 | E12: =N12*1000 -> 19440 | F12: =O12*1000 -> 24110 | G12: =P12*1000 -> 30840 | H12: =Q12*1000 -> 35760 | I12: =R12*1000 -> 42760 | J12: ￠90 | K12: =ROUND($O$2*T12/1000,2) -> 8.68 | L12: =ROUND($O$2*U12/1000,2) -> 12.99 | M12: =ROUND($O$2*V12/1000,2) -> 16.04 | N12: =ROUND($O$2*W12/1000,2) -> 19.44 | O12: =ROUND($O$2*X12/1000,2) -> 24.11 | P12: =ROUND($O$2*Y12/1000,2) -> 30.84 | Q12: =ROUND($O$2*Z12/1000,2) -> 35.76 | R12: =ROUND($O$2*AA12/1000,2) -> 42.76 | S12: ￠90 | T12: 0.827 | U12: 1.2373 | V12: 1.528 | W12: 1.8512 | X12: 2.2963 | Y12: 2.937 | Z12: 3.4055 | AA12: 4.0721
A13: ￠110 | B13: =K13*1000 -> 13280 | C13: =L13*1000 -> 15530 | D13: =M13*1000 -> 19340 | E13: =N13*1000 -> 23590 | F13: =O13*1000 -> 29230 | G13: =P13*1000 -> 35920 | H13: =Q13*1000 -> 44250 | I13: =R13*1000 -> 53300 | J13: ￠110 | K13: =ROUND($O$2*T13/1000,2) -> 13.28 | L13: =ROUND($O$2*U13/1000,2) -> 15.53 | M13: =ROUND($O$2*V13/1000,2) -> 19.34 | N13: =ROUND($O$2*W13/1000,2) -> 23.59 | O13: =ROUND($O$2*X13/1000,2) -> 29.23 | P13: =ROUND($O$2*Y13/1000,2) -> 35.92 | Q13: =ROUND($O$2*Z13/1000,2) -> 44.25 | R13: =ROUND($O$2*AA13/1000,2) -> 53.3 | S13: ￠110 | T13: 1.265 | U13: 1.4792 | V13: 1.8416 | W13: 2.2469 | X13: 2.7838 | Y13: 3.4208 | Z13: 4.2147 | AA13: 5.0758
A14: ￠125 | B14: =K14*1000 -> 15650 | C14: =L14*1000 -> 20340 | D14: =M14*1000 -> 24960 | E14: =N14*1000 -> 30660 | F14: =O14*1000 -> 37600 | G14: =P14*1000 -> 46560 | H14: =Q14*1000 -> 56970 | I14: =R14*1000 -> 69300 | J14: ￠125 | K14: =ROUND($O$2*T14/1000,2) -> 15.65 | L14: =ROUND($O$2*U14/1000,2) -> 20.34 | M14: =ROUND($O$2*V14/1000,2) -> 24.96 | N14: =ROUND($O$2*W14/1000,2) -> 30.66 | O14: =ROUND($O$2*X14/1000,2) -> 37.6 | P14: =ROUND($O$2*Y14/1000,2) -> 46.56 | Q14: =ROUND($O$2*Z14/1000,2) -> 56.97 | R14: =ROUND($O$2*AA14/1000,2) -> 69.3 | S14: ￠125 | T14: 1.49 | U14: 1.9371 | V14: 2.3774 | W14: 2.9199 | X14: 3.5814 | Y14: 4.434 | Z14: 5.4254 | AA14: 6.6
A15: ￠140 | B15: =K15*1000 -> 21910 | C15: =L15*1000 -> 25470 | D15: =M15*1000 -> 30970 | E15: =N15*1000 -> 38620 | F15: =O15*1000 -> 47330 | G15: =P15*1000 -> 58800 | H15: =Q15*1000 -> 71530 | I15: =R15*1000 -> 86500 | J15: ￠140 | K15: =ROUND($O$2*T15/1000,2) -> 21.91 | L15: =ROUND($O$2*U15/1000,2) -> 25.47 | M15: =ROUND($O$2*V15/1000,2) -> 30.97 | N15: =ROUND($O$2*W15/1000,2) -> 38.62 | O15: =ROUND($O$2*X15/1000,2) -> 47.33 | P15: =ROUND($O$2*Y15/1000,2) -> 58.8 | Q15: =ROUND($O$2*Z15/1000,2) -> 71.53 | R15: =ROUND($O$2*AA15/1000,2) -> 86.5 | S15: ￠140 | T15: 2.087 | U15: 2.4254 | V15: 2.9496 | W15: 3.678 | X15: 4.5078 | Y15: 5.5998 | Z15: 6.8123 | AA15: 8.2383
A16: ￠160 | B16: =K16*1000 -> 27040 | C16: =L16*1000 -> 32970 | D16: =M16*1000 -> 40380 | E16: =N16*1000 -> 50580 | F16: =O16*1000 -> 61970 | G16: =P16*1000 -> 75550 | H16: =Q16*1000 -> 93600 | I16: =R16*1000 -> 113350 | J16: ￠160 | K16: =ROUND($O$2*T16/1000,2) -> 27.04 | L16: =ROUND($O$2*U16/1000,2) -> 32.97 | M16: =ROUND($O$2*V16/1000,2) -> 40.38 | N16: =ROUND($O$2*W16/1000,2) -> 50.58 | O16: =ROUND($O$2*X16/1000,2) -> 61.97 | P16: =ROUND($O$2*Y16/1000,2) -> 75.55 | Q16: =ROUND($O$2*Z16/1000,2) -> 93.6 | R16: =ROUND($O$2*AA16/1000,2) -> 113.35 | S16: ￠160 | T16: 2.575 | U16: 3.1401 | V16: 3.8456 | W16: 4.817 | X16: 5.9022 | Y16: 7.1951 | Z16: 8.9141 | AA16: 10.7954
A17: ￠180 | B17: =K17*1000 -> 32700 | C17: =L17*1000 -> 41020 | D17: =M17*1000 -> 51040 | E17: =N17*1000 -> 63360 | F17: =O17*1000 -> 77800 | G17: =P17*1000 -> 97780 | H17: =Q17*1000 -> 118650 | I17: =R17*1000 -> 143490 | J17: ￠180 | K17: =ROUND($O$2*T17/1000,2) -> 32.7 | L17: =ROUND($O$2*U17/1000,2) -> 41.02 | M17: =ROUND($O$2*V17/1000,2) -> 51.04 | N17: =ROUND($O$2*W17/1000,2) -> 63.36 | O17: =ROUND($O$2*X17/1000,2) -> 77.8 | P17: =ROUND($O$2*Y17/1000,2) -> 97.78 | Q17: =ROUND($O$2*Z17/1000,2) -> 118.65 | R17: =ROUND($O$2*AA17/1000,2) -> 143.49 | S17: ￠180 | T17: 3.114 | U17: 3.9071 | V17: 4.8608 | W17: 6.0346 | X17: 7.4098 | Y17: 9.3123 | Z17: 11.3001 | AA17: 13.6653
A18: ￠200 | B18: =K18*1000 -> 40290 | C18: =L18*1000 -> 51020 | D18: =M18*1000 -> 64040 | E18: =N18*1000 -> 78670 | F18: =O18*1000 -> 99500 | G18: =P18*1000 -> 120280 | H18: =Q18*1000 -> 146630 | I18: =R18*1000 -> 177630 | J18: ￠200 | K18: =ROUND($O$2*T18/1000,2) -> 40.29 | L18: =ROUND($O$2*U18/1000,2) -> 51.02 | M18: =ROUND($O$2*V18/1000,2) -> 64.04 | N18: =ROUND($O$2*W18/1000,2) -> 78.67 | O18: =ROUND($O$2*X18/1000,2) -> 99.5 | P18: =ROUND($O$2*Y18/1000,2) -> 120.28 | Q18: =ROUND($O$2*Z18/1000,2) -> 146.63 | R18: =ROUND($O$2*AA18/1000,2) -> 177.63 | S18: ￠200 | T18: 3.837 | U18: 4.8592 | V18: 6.0994 | W18: 7.4926 | X18: 9.4761 | Y18: 11.4555 | Z18: 13.9648 | AA18: 16.9172
A19: ￠225 | B19: =K19*1000 -> 52610 | C19: =L19*1000 -> 64500 | D19: =M19*1000 -> 80200 | E19: =N19*1000 -> 98760 | F19: =O19*1000 -> 123000 | G19: =P19*1000 -> 152880 | H19: =Q19*1000 -> 185910 | J19: ￠225 | K19: =ROUND($O$2*T19/1000,2) -> 52.61 | L19: =ROUND($O$2*U19/1000,2) -> 64.5 | M19: =ROUND($O$2*V19/1000,2) -> 80.2 | N19: =ROUND($O$2*W19/1000,2) -> 98.76 | O19: =ROUND($O$2*X19/1000,2) -> 123 | P19: =ROUND($O$2*Y19/1000,2) -> 152.88 | Q19: =ROUND($O$2*Z19/1000,2) -> 185.91 | S19: ￠225 | T19: 5.01 | U19: 6.1425 | V19: 7.6384 | W19: 9.4057 | X19: 11.7145 | Y19: 14.5597 | Z19: 17.7056
A20: ￠250 | B20: =K20*1000 -> 63300 | C20: =L20*1000 -> 80860 | D20: =M20*1000 -> 99520 | E20: =N20*1000 -> 123040 | F20: =O20*1000 -> 150620 | G20: =P20*1000 -> 186340 | H20: =Q20*1000 -> 229720 | J20: ￠250 | K20: =ROUND($O$2*T20/1000,2) -> 63.3 | L20: =ROUND($O$2*U20/1000,2) -> 80.86 | M20: =ROUND($O$2*V20/1000,2) -> 99.52 | N20: =ROUND($O$2*W20/1000,2) -> 123.04 | O20: =ROUND($O$2*X20/1000,2) -> 150.62 | P20: =ROUND($O$2*Y20/1000,2) -> 186.34 | Q20: =ROUND($O$2*Z20/1000,2) -> 229.72 | S20: ￠250 | T20: 6.029 | U20: 7.7013 | V20: 9.4781 | W20: 11.7183 | X20: 14.3448 | Y20: 17.7469 | Z20: 21.8783
A21: ￠280 | B21: =K21*1000 -> 80850 | C21: =L21*1000 -> 101220 | D21: =M21*1000 -> 125500 | E21: =N21*1000 -> 154560 | F21: =O21*1000 -> 191160 | G21: =P21*1000 -> 235310 | H21: =Q21*1000 -> 289250 | J21: ￠280 | K21: =ROUND($O$2*T21/1000,2) -> 80.85 | L21: =ROUND($O$2*U21/1000,2) -> 101.22 | M21: =ROUND($O$2*V21/1000,2) -> 125.5 | N21: =ROUND($O$2*W21/1000,2) -> 154.56 | O21: =ROUND($O$2*X21/1000,2) -> 191.16 | P21: =ROUND($O$2*Y21/1000,2) -> 235.31 | Q21: =ROUND($O$2*Z21/1000,2) -> 289.25 | S21: ￠280 | T21: 7.7 | U21: 9.64 | V21: 11.9522 | W21: 14.7198 | X21: 18.2057 | Y21: 22.41 | Z21: 27.5478
A22: ￠315 | B22: =K22*1000 -> 101790 | C22: =L22*1000 -> 127100 | D22: =M22*1000 -> 158900 | E22: =N22*1000 -> 196750 | F22: =O22*1000 -> 240880 | G22: =P22*1000 -> 296630 | H22: =Q22*1000 -> 367090 | J22: ￠315 | K22: =ROUND($O$2*T22/1000,2) -> 101.79 | L22: =ROUND($O$2*U22/1000,2) -> 127.1 | M22: =ROUND($O$2*V22/1000,2) -> 158.9 | N22: =ROUND($O$2*W22/1000,2) -> 196.75 | O22: =ROUND($O$2*X22/1000,2) -> 240.88 | P22: =ROUND($O$2*Y22/1000,2) -> 296.63 | Q22: =ROUND($O$2*Z22/1000,2) -> 367.09 | S22: ￠315 | T22: 9.694 | U22: 12.1052 | V22: 15.1333 | W22: 18.7378 | X22: 22.9414 | Y22: 28.25 | Z22: 34.9614
A23: ￠355 | C23: =L23*1000 -> 162600 | D23: =M23*1000 -> 201860 | E23: =N23*1000 -> 249550 | F23: =O23*1000 -> 306610 | G23: =P23*1000 -> 377690 | H23: =Q23*1000 -> 467090 | J23: ￠355 | L23: =ROUND($O$2*U23/1000,2) -> 162.6 | M23: =ROUND($O$2*V23/1000,2) -> 201.86 | N23: =ROUND($O$2*W23/1000,2) -> 249.55 | O23: =ROUND($O$2*X23/1000,2) -> 306.61 | P23: =ROUND($O$2*Y23/1000,2) -> 377.69 | Q23: =ROUND($O$2*Z23/1000,2) -> 467.09 | S23: ￠355 | U23: 15.4857 | V23: 19.2246 | W23: 23.7668 | X23: 29.2006 | Y23: 35.97 | Z23: 44.4849
A24: ￠400 | B24: =K24*1000 -> 160210 | C24: =L24*1000 -> 206630 | D24: =M24*1000 -> 257710 | E24: =N24*1000 -> 317120 | F24: =O24*1000 -> 391950 | G24: =P24*1000 -> 480690 | H24: =Q24*1000 -> 595660 | J24: ￠400 | K24: =ROUND($O$2*T24/1000,2) -> 160.21 | L24: =ROUND($O$2*U24/1000,2) -> 206.63 | M24: =ROUND($O$2*V24/1000,2) -> 257.71 | N24: =ROUND($O$2*W24/1000,2) -> 317.12 | O24: =ROUND($O$2*X24/1000,2) -> 391.95 | P24: =ROUND($O$2*Y24/1000,2) -> 480.69 | Q24: =ROUND($O$2*Z24/1000,2) -> 595.66 | S24: ￠400 | T24: 15.258 | U24: 19.6794 | V24: 24.5442 | W24: 30.2023 | X24: 37.329 | Y24: 45.78 | Z24: 56.7297
A25: ￠450 | C25: =L25*1000 -> 261320 | D25: =M25*1000 -> 325240 | E25: =N25*1000 -> 401550 | F25: =O25*1000 -> 497070 | G25: =P25*1000 -> 609210 | H25: =Q25*1000 -> 758240 | J25: ￠450 | L25: =ROUND($O$2*U25/1000,2) -> 261.32 | M25: =ROUND($O$2*V25/1000,2) -> 325.24 | N25: =ROUND($O$2*W25/1000,2) -> 401.55 | O25: =ROUND($O$2*X25/1000,2) -> 497.07 | P25: =ROUND($O$2*Y25/1000,2) -> 609.21 | Q25: =ROUND($O$2*Z25/1000,2) -> 758.24 | S25: ￠450 | U25: 24.8877 | V25: 30.9748 | W25: 38.2429 | X25: 47.3397 | Y25: 58.02 | Z25: 72.2129
A26: ￠500 | B26: =K26*1000 -> 245210 | C26: =L26*1000 -> 324610 | D26: =M26*1000 -> 400350 | E26: =N26*1000 -> 501900 | F26: =O26*1000 -> 613160 | G26: =P26*1000 -> 755580 | H26: =Q26*1000 -> 944620 | J26: ￠500 | K26: =ROUND($O$2*T26/1000,2) -> 245.21 | L26: =ROUND($O$2*U26/1000,2) -> 324.61 | M26: =ROUND($O$2*V26/1000,2) -> 400.35 | N26: =ROUND($O$2*W26/1000,2) -> 501.9 | O26: =ROUND($O$2*X26/1000,2) -> 613.16 | P26: =ROUND($O$2*Y26/1000,2) -> 755.58 | Q26: =ROUND($O$2*Z26/1000,2) -> 944.62 | S26: ￠500 | T26: 23.353 | U26: 30.9153 | V26: 38.1289 | W26: 47.8 | X26: 58.3963 | Y26: 71.96 | Z26: 89.9635
A29: 给水 PE管材价格表 | K29: 给水 PE管材重量表 | R29: 单位：kg/m
E30: 单价: | F30: 9500 | G30: 元/t | H30: 单位:元/m
A31: 公称外径(dn) | C31: 公 称 压 力 | K31: 公 称外径(dn) | L31: 公 称 压 力
C32: 0.63Mpa | D32: 0.8 Mpa | E32: 1.0 Mpa | F32: 1.25Mpa | G32: 1.6 Mpa | H32: 2.0 Mpa | I32: 2.5 Mpa | M32: 0.6Mpa | N32: 0.8 Mpa | O32: 1.0 Mpa | P32: 1.25Mpa | Q32: 1.6 Mpa | R32: 2.0 Mpa | S32: 2.5 Mpa
A33: ￠20 | G33: =ROUND($F$30*Q33/1000,2) -> 1.33 | K33: ￠20 | Q33: 0.14
A34: ￠25 | G34: =ROUND($F$30*Q34/1000,2) -> 1.71 | K34: ￠25 | Q34: 0.18
A35: ￠32 | G35: =ROUND($F$30*Q35/1000,2) -> 2.76 | K35: ￠32 | Q35: 0.29
A36: ￠40 | G36: =ROUND($F$30*Q36/1000,2) -> 4.28 | K36: ￠40 | Q36: 0.45
A37: ￠50 | G37: =ROUND($F$30*Q37/1000,2) -> 6.56 | K37: ￠50 | Q37: 0.69
A38: ￠63 | F38: =ROUND($F$30*P38/1000,2) -> 8.46 | G38: =ROUND($F$30*Q38/1000,2) -> 10.17 | K38: ￠63 | P38: 0.89 | Q38: 1.07
A39: ￠75 | E39: =ROUND($F$30*O39/1000,2) -> 9.79 | F39: =ROUND($F$30*P39/1000,2) -> 11.97 | G39: =ROUND($F$30*Q39/1000,2) -> 14.25 | K39: ￠75 | O39: 1.03 | P39: 1.26 | Q39: 1.5
A40: ￠90 | D40: =ROUND($F$30*N40/1000,2) -> 11.4 | E40: =ROUND($F$30*O40/1000,2) -> 14.16 | F40: =ROUND($F$30*P40/1000,2) -> 17.2 | G40: =ROUND($F$30*Q40/1000,2) -> 20.62 | K40: ￠90 | N40: 1.2 | O40: 1.49 | P40: 1.81 | Q40: 2.17
A41: ￠110 | C41: =ROUND($F$30*M41/1000,2) -> 13.78 | D41: =ROUND($F$30*N41/1000,2) -> 17.2 | E41: =ROUND($F$30*O41/1000,2) -> 20.9 | F41: =ROUND($F$30*P41/1000,2) -> 25.37 | G41: =ROUND($F$30*Q41/1000,2) -> 30.59 | K41: ￠110 | M41: 1.45 | N41: 1.81 | O41: 2.2 | P41: 2.67 | Q41: 3.22
A42: ￠125 | C42: =ROUND($F$30*M42/1000,2) -> 17.86 | D42: =ROUND($F$30*N42/1000,2) -> 21.95 | E42: =ROUND($F$30*O42/1000,2) -> 26.79 | F42: =ROUND($F$30*P42/1000,2) -> 32.68 | G42: =ROUND($F$30*Q42/1000,2) -> 39.71 | K42: ￠125 | M42: 1.88 | N42: 2.31 | O42: 2.82 | P42: 3.44 | Q42: 4.18
...
