Workbook

Sheet 编制说明
A1: 工程量清单
A2: 1. 工程量清单说明
A3: 1.1 本工程量清单是根据招标文件中包括的有合同约束力的工程量清单计量规则、图纸以及有关工程量清单的国家标准、行业标准、合同条款中约定的其他规则编制。约定计量规则中没有的子目，其工程量按照有合同约束力的图纸所标示尺寸的理论净量计算。计量采用中华人民共和国法定计量单位。
A4: 1.2 本工程量清单应与招标文件中的投标人须知，通用合同条款、专用合同条款、工程量清单计量规则、技术规范及图纸等一起阅读和理解。
A5: 1.3 本工程量清单中所列工程数量是估算的或设计的预计数量，仅作为投标报价的共同基础，不能作为最终结算与支付的依据。实际支付应按实际完成的工程量，由承包人按工程量清单计量规则规定的计量方法，以监理人认可的尺寸、断面计量，按本工程量清单的单价和总额价计算支付金额；或根据具体情况，按合同条款第15.4款的规定，按监理人确定的单价或总额价计算支付额。
A6: 1.4 工程量清单各章是按第八章“工程量清单计量规则”、第七章“技术规范”的相应章次编号的，因此，工程量清单中各章的工程子目的范围与计量等应与“工程量清单计量规则”、“技术规范”相应章节的范围、计量与支付条款结合起来理解或解释。
A7: 1.5 对作业和材料的一般说明或规定，未重复写入工程量清单内，在给工程量清单各子目标价前，应参阅第七章“技术规范”的有关内容。
A8: 1.6 工程量清单中所列工程量的变动，丝毫不会降低或影响合同条款的效力，也不免除承包人按规定的标准进行施工和修复缺陷的责任。
A9: 1.7 图纸中所列的工程数量表及数量汇总表仅是提供资料，不是工程量清单的外延。当图纸与工程量清单所列数量不一致时，以工程量清单所列数量作为报价的依据。
A10: 2. 投标报价的说明
A11: 2.1 工程量清单中的每一子目（有数量）须填入单价或价格，且只允许有一个报价。
A12: 2.2 除非合同另有规定，工程量清单中有标价的单价和总额价均已包括了为实施和完成合同工程所需的劳务、材料、机械、质检（自检）、安装、缺陷修复、管理、保险、税费、利润等费用，以及合同明示或暗示的所有责任、义务和一般风险。
... A22: 4.2为确保将安全施工措施落到实处，投标人应根据《公路水运工程安全生产监督管理办法》(交通运输部令2017年第25号)以及《关于印发〈企业安全生产费用提取和使用管理办法〉的通知》(财资[2022]136号)的规定，在投标总价中计入安全生产费用，安全生产费用以固定金额形式计入工程量清单第100章中(安全生产贵用为招标人公布的最高投标限价的1.5%)，投标人在投标报价时不得对该固定金额进行调整。如投标人须在此基础上增加安全生产费用以满足项目施工需要，则投标人应在本项目工程量清单其它相关子目的单价或总额价中予以考虑，发包人不再单独支付。承包人的施工安全生产费用，应当用于施工安全防护用具及设施的采购和更新、安全施工措施的落实、安全生产条件的改善，不得挪作他用。

Sheet 100章
A1: 工程量清单表
A2: 标段: 察右后旗王套沟桥 | E2: 货币单位: 人民币 元
A3: 清单 第100章 总则
A4: 子目号 | B4: 子 目 名 称 | C4: 单位 | D4: 数量 | E4: 单价 | F4: 合价
A5: 101 | B5: 通则
A6: 101-1 | B6: 保险费
A7: -a | B7: 按合同条款规定，提供建筑工程一切险 | C7: 总额 | D7: 1.000 | E7: =IF(E11=0,0,ROUND(SUM(F10:F15,投标报价汇总表!E5:E8)*0.003,0)) -> 0 | F7: =ROUND(D7*E7,0) -> 0
A8: -b | B8: 按合同条款规定，提供第三者责任险 | C8: 总额 | D8: 1.000 | E8: =IF(E7=0,0,4000) -> 0 | F8: =ROUND(D8*E8,0) -> 0
A9: 102 | B9: 工程管理 | F9: =ROUND(D9*E9,0) -> 0
A10: 102-2 | B10: 施工环保费 | C10: 总额 | D10: 1.000 | F10: =ROUND(D10*E10,0) -> 0
A11: 102-3 | B11: 安全生产费 | C11: 总额 | D11: 1.000 | F11: =ROUND(D11*E11,0) -> 0
A12: 103 | B12: 临时工程与设施 | F12: =ROUND(D12*E12,0) -> 0
A13: 103-1 | B13: 临时道路修建、养护与拆除(包括原道路的养护) | C13: 总额 | D13: 1.000 | F13: =ROUND(D13*E13,0) -> 0
A14: 104 | B14: 承包人驻地建设 | F14: =ROUND(D14*E14,0) -> 0
A15: 104-1 | B15: 承包人驻地建设 | C15: 总额 | D15: 1.000 | F15: =ROUND(D15*E15,0) -> 0
B41: 清单 第 100 章合计 人民币 | D41: =SUM(F7:F15) -> 0

Sheet 200章
A1: 工程量清单表
A2: 标段: 察右后旗王套沟桥 | E2: 货币单位: 人民币 元
A3: 清单 第200章 路基
A4: 子目号 | B4: 子 目 名 称 | C4: 单位 | D4: 数量 | E4: 单价 | F4: 合价
A5: 202 | B5: 场地清理
A6: 202-1 | B6: 清理与掘除
A7: -a | B7: 清理现场 | C7: m2 | D7: 677.100 | F7: =ROUND(D7*E7,0) -> 0
A8: 202-2 | B8: 挖除旧路面 | F8: =ROUND(D8*E8,0) -> 0
A9: -b | B9: 沥青混凝土路面 | C9: m3 | D9: 8.650 | F9: =ROUND(D9*E9,0) -> 0
A10: -c | B10: 水稳基层 | C10: m3 | D10: 28.000 | F10: =ROUND(D10*E10,0) -> 0
A11: 202-3 | B11: 拆除结构物 | F11: =ROUND(D11*E11,0) -> 0
A12: -b | B12: 混凝土结构 | C12: m3 | D12: 36.000 | F12: =ROUND(D12*E12,0) -> 0
A13: 203 | B13: 挖方路基 | F13: =ROUND(D13*E13,0) -> 0
A14: 203-1 | B14: 路基挖方 | F14: =ROUND(D14*E14,0) -> 0
A15: -g | B15: 清理河道土方 | C15: m3 | D15: 500.000 | F15: =ROUND(D15*E15,0) -> 0
A16: 204 | B16: 填方路基 | F16: =ROUND(D16*E16,0) -> 0
A17: 204-1 | B17: 路基填筑(包括填前压实) | F17: =ROUND(D17*E17,0) -> 0
A18: -d | B18: 借土填方 | C18: m3 | D18: 1471.000 | F18: =ROUND(D18*E18,0) -> 0
A19: -h | B19: 结构物台背回填 | C19: m3 | D19: 447.300 | F19: =ROUND(D19*E19,0) -> 0
A20: 205 | B20: 特殊地区路基处理 | F20: =ROUND(D20*E20,0) -> 0
A21: 205-1 | B21: 软土路基处理 | F21: =ROUND(D21*E21,0) -> 0
A22: -c | B22: 垫层 | F22: =ROUND(D22*E22,0) -> 0
A23: -c-2 | B23: 砂砾垫层 | C23: m3 | D23: 305.000 | F23: =ROUND(D23*E23,0) -> 0
A24: 208 | B24: 护坡、护面墙 | F24: =ROUND(D24*E24,0) -> 0
A25: 208-1 | B25: 护坡垫层 | C25: m3 | D25: 67.900 | F25: =ROUND(D25*E25,0) -> 0
A26: 208-3 | B26: 浆砌片石护坡 | F26: =ROUND(D26*E26,0) -> 0
A27: -a | B27: 满铺浆砌片石护坡 | F27: =ROUND(D27*E27,0) -> 0
A28: -a-1 | B28: M10浆砌片石 | C28: m3 | D28: 400.500 | F28: =ROUND(D28*E28,0) -> 0
A29: 215 | B29: 河道防护 | F29: =ROUND(D29*E29,0) -> 0
A30: 215-2 | B30: 导流设施(护岸墙、顺坝、丁坝、调水坝、锥坡) | F30: =ROUND(D30*E30,0) -> 0
A31: -a | B31: 浆砌片石 | C31: m3 | D31: 462.000 | F31: =ROUND(D31*E31,0) -> 0
B41: 清单 第 200 章合计 人民币 | D41: =SUM(F7:F31) -> 0

Sheet 300章
A1: 工程量清单表
A2: 标段: 察右后旗王套沟桥 | E2: 货币单位: 人民币 元
A3: 清单 第300章 路面
A4: 子目号 | B4: 子 目 名 称 | C4: 单位 | D4: 数量 | E4: 单价 | F4: 合价
A5: 302 | B5: 垫层
A6: 302-2 | B6: 砂砾垫层
A7: -a | B7: 厚200mm | C7: m2 | D7: 1159.000 | F7: =ROUND(D7*E7,0) -> 0
A8: 312 | B8: 水泥混凝土面板 | F8: =ROUND(D8*E8,0) -> 0
A9: 312-1 | B9: 水泥混凝土面板 | F9: =ROUND(D9*E9,0) -> 0
A10: -a | B10: 厚200mm (混凝土弯拉强度…MPa) | C10: m3 | D10: 195.200 | F10: =ROUND(D10*E10,0) -> 0
A11: 313 | B11: 路肩培土、中央分隔带回填土、土路肩加固及路缘石 | F11: =ROUND(D11*E11,0) -> 0
A12: 313-4 | B12: 混凝土预制块加固土路肩 | F12: =ROUND(D12*E12,0) -> 0
A13: -a | B13: C30混凝土 | C13: m3 | D13: 40.130 | F13: =ROUND(D13*E13,0) -> 0
B41: 清单 第 300 章合计 人民币 | D41: =SUM(F7:F13) -> 0

Sheet 400章
A1: 工程量清单表
A2: 标段: 察右后旗王套沟桥 | E2: 货币单位: 人民币 元
A3: 清单 第400章 桥梁、涵洞
A4: 子目号 | B4: 子 目 名 称 | C4: 单位 | D4: 数量 | E4: 单价 | F4: 合价
A5: 403 | B5: 钢筋
A6: 403-1 | B6: 基础钢筋(含灌注桩、承台、桩系梁、沉桩、沉井等)
A7: -a | B7: 光圆钢筋(HPB235、HPB300) | C7: kg | D7: 1502.900 | F7: =ROUND(D7*E7,0) -> 0
A8: -b | B8: 带肋钢筋(HRB335、HRB400) | C8: kg | D8: 1472.500 | F8: =ROUND(D8*E8,0) -> 0
A9: 403-2 | B9: 下部结构钢筋 | F9: =ROUND(D9*E9,0) -> 0
A10: -a | B10: 光圆钢筋(HPB235、HPB300) | C10: kg | D10: 565.500 | F10: =ROUND(D10*E10,0) -> 0
A11: -b | B11: 带肋钢筋(HRB335、HRB400) | C11: kg | D11: 13024.000 | F11: =ROUND(D11*E11,0) -> 0
A12: 403-3 | B12: 上部结构钢筋 | F12: =ROUND(D12*E12,0) -> 0
A13: -b | B13: 带肋钢筋(HRB335、HRB400) | C13: kg | D13: 15226.800 | F13: =ROUND(D13*E13,0) -> 0
A14: 403-4 | B14: 附属结构钢筋 | F14: =ROUND(D14*E14,0) -> 0
A15: -a | B15: 光圆钢筋(HPB235、HPB300) | C15: kg | D15: 63.800 | F15: =ROUND(D15*E15,0) -> 0
A16: -b | B16: 带肋钢筋(HRB335、HRB400) | C16: kg | D16: 11376.400 | F16: =ROUND(D16*E16,0) -> 0
A17: 404 | B17: 基坑开挖及回填 | F17: =ROUND(D17*E17,0) -> 0
A18: 404-1 | B18: 干处挖土方 | C18: m3 | D18: 670.500 | F18: =ROUND(D18*E18,0) -> 0
A19: 410 | B19: 结构混凝土工程 | F19: =ROUND(D19*E19,0) -> 0
A20: 410-1 | B20: 混凝土基础(包括支撑梁、桩基承台、桩系梁，但不包括桩基) | F20: =ROUND(D20*E20,0) -> 0
A21: -a | B21: C30混凝土（基础） | C21: m3 | D21: 138.500 | F21: =ROUND(D21*E21,0) -> 0
A22: -b | B22: C30混凝土（支撑梁） | C22: m3 | D22: 4.040 | F22: =ROUND(D22*E22,0) -> 0
A23: -c | B23: C30混凝土（铺砌、隔水墙） | C23: m3 | D23: 143.500 | F23: =ROUND(D23*E23,0) -> 0
A24: 410-2 | B24: 混凝土下部结构 | F24: =ROUND(D24*E24,0) -> 0
A25: -b | B25: 桥墩混凝土 | F25: =ROUND(D25*E25,0) -> 0
A26: -b-1 | B26: C35混凝土 | C26: m3 | D26: 66.490 | F26: =ROUND(D26*E26,0) -> 0
A27: -c | B27: 盖梁混凝土 | F27: =ROUND(D27*E27,0) -> 0
A28: -c-1 | B28: C35混凝土 | C28: m3 | D28: 9.700 | F28: =ROUND(D28*E28,0) -> 0
A29: -d | B29: 台帽混凝土 | F29: =ROUND(D29*E29,0) -> 0
A30: -d-1 | B30: C35混凝土 | C30: m3 | D30: 19.200 | F30: =ROUND(D30*E30,0) -> 0
A31: 410-3 | B31: 现浇混凝土上部结构 | F31: =ROUND(D31*E31,0) -> 0
A32: -a | B32: C40混凝土 | C32: m3 | D32: 80.400 | F32: =ROUND(D32*E32,0) -> 0
A33: 410-6 | B33: 现浇混凝土附属结构 | F33: =ROUND(D33*E33,0) -> 0
A34: -a | B34: C40混凝土（防撞墙） | C34: m3 | D34: 12.880 | F34: =ROUND(D34*E34,0) -> 0
A35: -b | B35: C35混凝土（挡块） | C35: m3 | D35: 0.300 | F35: =ROUND(D35*E35,0) -> 0
A36: -c | B36: C30混凝土（搭板） | C36: m3 | D36: 28.800 | F36: =ROUND(D36*E36,0) -> 0
A37: -d | B37: C20素混凝土 | C37: m3 | D37: 46.400 | F37: =ROUND(D37*E37,0) -> 0
A38: 415 | B38: 桥面铺装 | F38: =ROUND(D38*E38,0) -> 0
A39: 415-2 | B39: 水泥混凝土桥面铺装 | F39: =ROUND(D39*E39,0) -> 0
A40: -a | B40: C40混凝土 | C40: m3 | D40: 10.240 | F40: =ROUND(D40*E40,0) -> 0
...

Sheet 600章
A1: 工程量清单表
A2: 标段: 察右后旗王套沟桥 | E2: 货币单位: 人民币 元
A3: 清单 第600章 安全设施及预埋管线
A4: 子目号 | B4: 子 目 名 称 | C4: 单位 | D4: 数量 | E4: 单价 | F4: 合价
A5: 604 | B5: 道路交通标志
A6: 604-1 | B6: 单柱式交通标志
A7: -a | B7: ○800+○800 | C7: 个 | D7: 2.000 | F7: =ROUND(D7*E7,0) -> 0
A8: 604-7 | B8: 附着式交通标志 | F8: =ROUND(D8*E8,0) -> 0
A9: -a | B9: 530×340 | C9: 个 | D9: 2.000 | F9: =ROUND(D9*E9,0) -> 0
A10: 604-13 | B10: 示警桩 | C10: 个 | D10: 230.000 | F10: =ROUND(D10*E10,0) -> 0
B41: 清单 第 600 章合计 人民币 | D41: =SUM(F7:F10) -> 0

Sheet 投标报价汇总表
A1: 最高投标限价汇总表
A2: 标段：察右后旗王套沟桥
A3: 序 号 | B3: 章 次 | C3: 科 目 名 称 | E3: 金额(元)
A4: 1 | B4: 100 | C4: 清单 第100章 总则 | E4: ='100章'!D41 -> 0
A5: 2 | B5: 200 | C5: 清单 第200章 路基 | E5: ='200章'!D41 -> 0
A6: 3 | B6: 300 | C6: 清单 第300章 路面 | E6: ='300章'!D41 -> 0
A7: 4 | B7: 400 | C7: 清单 第400章 桥梁、涵洞 | E7: ='400章'!D79 -> 0
A8: 5 | B8: 600 | C8: 清单 第600章 安全设施及预埋管线 | E8: ='600章'!D41 -> 0
A9: 6 | B9: 第100章至700章清单合计 | E9: =SUM(E4:E8) -> 0
A10: 7 | B10: 已包含在清单合计中的材料、工程设备、专业工程暂估价合计
A11: 8 | B11: 清单合计减去材料、工程设备、专业工程暂估价 合计(即6-7)=8 | E11: =E9 -> 0
A12: 9 | B12: 计日工合计
A13: 10 | B13: 暂列金额(不含计日工总额)
A14: 11 | B14: 投标报价(6+9+10)=11 | E14: =E9 -> 0
