Workbook

Sheet 清单说明
A1: 1.工程量清单说明
A2: 1.1 本工程量清单是根据招标文件中包括的有合同约束力的工程量清单计量规则、图纸以及有关工程量清单的国家标准、行业标准、合同条款中约定的其他规则编制。约定计量规则中没有的子目，其工程量按照有合同约束力的图纸所标示尺寸的理论净量计算。计量采用中华人民共和国法定计量单位。
A3: 1.2 本工程量清单应与招标文件中的投标人须知、通用合同条款、专用合同条款、工程量清单计量规则、技术规范及图纸等一起阅读和理解。
A4: 1.3 本工程量清单中所列工程数量是估算的或设计的预计数量，仅作为投标报价的共同基础，不能作为最终结算与支付的依据。实际支付应按实际完成的工程量，由承包人按工程量清单计量规则规定的计量方法，以监理人认可的尺寸、断面计量，按本工程量清单的单价和总额价计算支付金额；或根据具体情况，按合同条款第15.4款的规定，按监理人确定的单价或总额价计算支付额。
A5: 1.4 工程量清单各章是按第八章“工程量清单计量规则”、第七章“技术规范”的相应章次编号的，因此，工程量清单中各章的工程子目的范围与计量等应与“工程量清单计量规则” “技术规范”相应章节的范围、计量与支付条款结合起来理解或解释。
A6: 1.5 对作业和材料的一般说明或规定，未重复写入工程量清单内，在给工程量清单各子目标价前，应参阅第七章“技术规范”的有关内容。
A7: 1.6 工程量清单中所列工程量的变动，丝毫不会降低或影响合同条款的效力，也不免除承包人按规定的标准进行施工和修复缺陷的责任。
A8: 1.7 图纸中所列的工程数量表及数量汇总表仅是提供资料，不是工程量清单的外延。当图纸与工程量清单所列数量不一致时，以工程量清单所列数量作为报价的依据。
A9: 2.投标报价说明
A10: 2.1 工程量清单中的每一子目须填入单价或价格，且只允许有一个报价。
A11: 2.2 除非合同另有规定，工程量清单中有标价的单价和总额价均已包括了为实施和完成合同工程所需的劳务、材料、机械、措施费、质检（自检）、安装、缺陷修复、管理、保险、税费、利润等费用，以及合同明示或暗示的所有责任、义务和一般风险。
A12: 2.3 工程量清单中投标人没有填入单价或价格的子目，其费用视为已分摊在工程量清单中其他相关子目的单价或价格之中。承包人必须按监理人指令完成工程量清单中未填入单价或价格的子目，但不能得到结算与支付。
... A15: 2.6 工程量清单中各项金额均以人民币（元）结算。
A16: 2.7 暂列金额（不含计日工总额）的数量及拟用子目的说明：本项目不予考虑。 | B16: 计日工合计
A17: 2.8 暂估价的数量及拟用子目的说明：本项目不予考虑。 | B17: 暂列金额10×0%（不含计日工总额）
A18: 3.计日工说明 | B18: 投标报价（8+11+12=13）
A19: 3.1 总则
A20: （1）本说明应参照通用合同条款第15.7款一并理解。
A21: （2）未经监理人书面指令，任何工程不得按计日工施工；接到监理人按计日工施工的书面指令，承包人也不得拒绝。
A22: （3）投标人应在计日工单价表中填列计日工子目的基本单价或租价，该基本单价或租价适用于监理人指令的任何数量的计日工的结算与支付。计日工的劳务、材料和施工机械由招标人（或发包人）列出正常的估计数量，投标人报出单价，计算出计日工总额后列入工程量清单汇总表中并进入评标价。
A23: （4）计日工不调价。
A24: 3.2 计日工劳务
A25: （1）在计算应付给承包人的计日工工资时，工时应从工人到达施工现场，并开始从事指定的工作算起，到返回原出发地点为止，扣去用餐和休息的时间。只有直接从事指定的工作，且能胜任该工作的工人才能计工，随同工人一起做工的班长应计算在内，但不包括领工（工长）和其他质检管理人员。
A26: （2）承包人可以得到用于计日工劳务的全部工时的支付，此支付按承包人填报的“计日工劳务单价表”所列单价计算，该单价应包括基本单价及承包人的管理费、税费、利润等所有附加费，说明如下：
A27: a. 劳务基本单价包括：承包人劳务的全部直接费用，如：工资、加班费、津贴、福利费及劳动保护费等。
A28: b. 承包人的利润、管理、质检、保险、税费；易耗品的使用，水电及照明费，工作台、脚手架、临时设施费，手动机具与工具的使用及维修，以及上述各项伴随而来的费用。
A29: 3.3 计日工材料
A30: 承包人可以得到计日工使用的材料费用（上述3.2款已计入劳务费内的材料费用除外）的支付，此费用按承包人“计日工材料单价表”中所填报的单价计算，该单价应包括基本单价及承包人的管理费、税费、利润等所有附加费，说明如下：
... A44: 4.7 除特别说明外，本工程量清单依照《中华人民共和国交通运输部 公路工程标准施工招标文件（2018年版 ）》相关规定执行。

Sheet 100章
A1: 5.1 工程量清单表
A2: 工 程 量 清 单
A3: 采购项目名称：巴林右旗大板镇准哈日毛都嘎查乡村道路联络线工程
A4: 清单 第100章 总 则
A5: 子目号 | B5: 子 目 名 称 | C5: 单 位 | D5: 数 量 | E5: 单 价 | F5: 合 价
A6: 102 | B6: 工程管理 | D6: =SUM(G6:Z6) -> 0 | F6: =ROUND(D6*E6,0) -> 0
A7: 102-3 | B7: 安全生产费 | C7: 总额 | D7: =SUM(G7:Z7) -> 1 | F7: =ROUND(D7*E7,0) -> 0 | G7: 1
F8: =ROUND(D8*E8,0) -> 0
F9: =ROUND(D9*E9,0) -> 0
F10: =ROUND(D10*E10,0) -> 0 | G10: 4 | H10: 4
F11: =ROUND(D11*E11,0) -> 0 | G11: 4 | H11: 4
F12: =ROUND(D12*E12,0) -> 0 | G12: 16 | H12: 16 | I12: 6 | J12: 6 | K12: 6
F13: =ROUND(D13*E13,0) -> 0 | G13: 20 | H13: 20 | I13: 6 | J13: 6 | K13: 6
F14: =ROUND(D14*E14,0) -> 0 | G14: 2 | H14: 2 | I14: 2 | J14: 2 | K14: 2
F15: =ROUND(D15*E15,0) -> 0 | G15: 2 | H15: 2
F16: =ROUND(D16*E16,0) -> 0 | G16: 2 | H16: 2
F17: =ROUND(D17*E17,0) -> 0 | G17: 2 | H17: 2 | I17: 2 | J17: 2 | K17: 2
F18: =ROUND(D18*E18,0) -> 0 | I18: 2 | J18: 2 | K18: 2
F19: =ROUND(D19*E19,0) -> 0 | I19: 2 | J19: 2 | K19: 2
F20: =ROUND(D20*E20,0) -> 0 | G20: 1
F21: =ROUND(D21*E21,0) -> 0
F22: =ROUND(D22*E22,0) -> 0 | G22: 1
F23: =ROUND(D23*E23,0) -> 0
F24: =ROUND(D24*E24,0) -> 0
F25: =ROUND(D25*E25,0) -> 0
F26: =ROUND(D26*E26,0) -> 0
D27: =SUM(G27:Z27) -> 0 | F27: =ROUND(D27*E27,0) -> 0
A28: 清单 第100章合计 （人民币：元） | F28: =ROUND(SUM(F6:F27),0) -> 0

Sheet 200章
A1: 工 程 量 清 单
A2: ='100章'!A3:F3 -> 采购项目名称：巴林右旗大板镇准哈日毛都嘎查乡村道路联络线工程
A3: 清单 第200章 路 基
A4: 子目号 | B4: 子 目 名 称 | C4: 单 位 | D4: 数 量 | E4: 单 价 | F4: 合 价
A5: 202 | B5: 场地清理 | D5: =SUM(G5:Z5) -> 0 | F5: =ROUND(D5*E5,0) -> 0
A6: 202-2 | B6: 挖除旧路面 | D6: =SUM(G6:Z6) -> 0 | F6: =ROUND(D6*E6,0) -> 0
A7: -a | B7: 水泥混凝土路面 | C7: m3 | D7: 51.7 | F7: =ROUND(D7*E7,0) -> 0
A8: 202-3 | B8: 拆除结构物 | F8: =ROUND(D8*E8,0) -> 0 | G8: 495
A9: -b | B9: 混凝土结构 | C9: m3 | D9: 24 | F9: =ROUND(D9*E9,0) -> 0
A10: 203 | B10: 挖方路基 | F10: =ROUND(D10*E10,0) -> 0 | G10: 21574
A11: 203-1 | B11: 路基挖方 | F11: =ROUND(D11*E11,0) -> 0
A12: -a | B12: 挖土方 | C12: m3 | D12: 71.700 | F12: =ROUND(D12*E12,0) -> 0
A13: -c | B13: 挖除非适用材料(不含淤泥、岩盐、冻土) | C13: m3 | D13: 432.000 | F13: =ROUND(D13*E13,0) -> 0 | G13: 1.8
A14: 203-2 | B14: 改河、改渠、改路挖方 | F14: =ROUND(D14*E14,0) -> 0
A15: -a | B15: 挖土方 | C15: m3 | D15: 1200.000 | F15: =ROUND(D15*E15,0) -> 0
A16: 204 | B16: 填方路基 | F16: =ROUND(D16*E16,0) -> 0
A17: 204-1 | B17: 路基填筑（包括填前压实） | F17: =ROUND(D17*E17,0) -> 0
A18: -a | B18: 利用土方 | C18: m3 | D18: 71.800 | F18: =ROUND(D18*E18,0) -> 0
A19: -d | B19: 借土填方 | C19: m3 | D19: 435.000 | F19: =ROUND(D19*E19,0) -> 0
A20: -h | B20: 结构物台背回填砂砾 | C20: m3 | D20: 550.000 | F20: =ROUND(D20*E20,0) -> 0
A21: -i | B21: 锥坡及台前溜坡填砂砾 | C21: m3 | D21: 91.800 | F21: =ROUND(D21*E21,0) -> 0
A22: 205 | B22: 特殊地区路基处理 | F22: =ROUND(D22*E22,0) -> 0
A23: 205-1 | B23: 软土路基处理 | F23: =ROUND(D23*E23,0) -> 0
A24: -c | B24: 垫层 | F24: =ROUND(D24*E24,0) -> 0
A25: -c-2 | B25: 砂砾垫层 | C25: m3 | D25: 432.000 | F25: =ROUND(D25*E25,0) -> 0
A26: 215 | B26: 河道防护 | F26: =ROUND(D26*E26,0) -> 0
A27: 215-1 | B27: 河床铺砌 | F27: =ROUND(D27*E27,0) -> 0
A28: -a | B28: M10浆砌片石铺砌 | C28: m3 | D28: 138.100 | F28: =ROUND(D28*E28,0) -> 0
A29: 215-2 | B29: 导流设施(护岸墙、顺坝、丁坝、调水坝、锥坡) | F29: =ROUND(D29*E29,0) -> 0
A30: -a | B30: M10浆砌片石 | C30: m3 | D30: 1495.000 | F30: =ROUND(D30*E30,0) -> 0
A31: 清单 第200章 合计 （人民币：元） | F31: =ROUND(SUM(F5:F30),0) -> 0

Sheet 300章
A1: 工 程 量 清 单
A2: ='100章'!A3:F3 -> 采购项目名称：巴林右旗大板镇准哈日毛都嘎查乡村道路联络线工程
A3: 清单 第300章 路面
A4: 子目号 | B4: 子 目 名 称 | C4: 单 位 | D4: 数 量 | E4: 单 价 | F4: 合 价
A5: 306 | B5: 级配碎(砾)石底基层、基层 | F5: =ROUND(D5*E5,0) -> 0
A6: 306-3 | B6: 未筛分碎石基层 | F6: =ROUND(D6*E6,0) -> 0
A7: -a | B7: 厚200mm | C7: m2 | D7: 675.000 | F7: =ROUND(D7*E7,0) -> 0 | G7: 495
A8: 312 | B8: 水泥混凝土面板 | F8: =ROUND(D8*E8,0) -> 0
A9: 312-1 | B9: 水泥混凝土面板 | F9: =ROUND(D9*E9,0) -> 0
A10: -a | B10: 厚200mm | C10: m2 | D10: 124.400 | F10: =ROUND(D10*E10,0) -> 0 | G10: 495
A11: 312-2 | B11: 钢筋 | F11: =ROUND(D11*E11,0) -> 0
A12: -b | B12: 带肋钢筋(HRB335、HRB400) | C12: kg | D12: 93.000 | F12: =ROUND(D12*E12,0) -> 0 | G12: 21574
A13: 313 | B13: 路肩培土、中央分隔带回填土、土路肩加固及路缘石 | F13: =ROUND(D13*E13,0) -> 0
A14: 313-1 | B14: 路肩培土 | C14: m3 | D14: 45.700 | F14: =ROUND(D14*E14,0) -> 0
F15: =ROUND(D15*E15,0) -> 0 | G15: 21574
F16: =ROUND(D16*E16,0) -> 0 | G16: 495
F17: =ROUND(D17*E17,0) -> 0
F18: =ROUND(D18*E18,0) -> 0
F19: =ROUND(D19*E19,0) -> 0 | G19: 6.8
F20: =ROUND(D20*E20,0) -> 0
F21: =ROUND(D21*E21,0) -> 0
F22: =ROUND(D22*E22,0) -> 0
F23: =ROUND(D23*E23,0) -> 0
F24: =ROUND(D24*E24,0) -> 0
F25: =ROUND(D25*E25,0) -> 0
F26: =ROUND(D26*E26,0) -> 0
A27: 清单 第300章 合计（人民币：元） | F27: =ROUND(SUM(F5:F26),0) -> 0

Sheet 400章
A1: 工 程 量 清 单
A2: ='100章'!A3:F3 -> 采购项目名称：巴林右旗大板镇准哈日毛都嘎查乡村道路联络线工程
A3: 清单 第400章 桥梁、涵洞
A4: 子目号 | B4: 子 目 名 称 | C4: 单 位 | D4: 数 量 | E4: 单 价 | F4: 合 价
A5: 403 | B5: 钢筋 | F5: =ROUND(D5*E5,0) -> 0
A6: 403-1 | B6: 基础钢筋(含灌注桩、承台、桩系梁、沉桩、沉井等) | F6: =ROUND(D6*E6,0) -> 0
A7: -a | B7: 光圆钢筋(HPB235、HPB300) | C7: kg | D7: 877.500 | F7: =ROUND(D7*E7,0) -> 0
A8: -b | B8: 带肋钢筋(HRB335、HRB400) | C8: kg | D8: 2006.000 | F8: =ROUND(D8*E8,0) -> 0 | G8: 28
A9: 403-2 | B9: 下部结构钢筋 | F9: =ROUND(D9*E9,0) -> 0 | G9: 112
A10: -a | B10: 光圆钢筋(HPB235、HPB300) | C10: kg | D10: 719.000 | F10: =ROUND(D10*E10,0) -> 0
A11: -b | B11: 带肋钢筋(HRB335、HRB400) | C11: kg | D11: 9083.800 | F11: =ROUND(D11*E11,0) -> 0
A12: 403-3 | B12: 上部结构钢筋 | F12: =ROUND(D12*E12,0) -> 0 | G12: 911.6
A13: -b | B13: 带肋钢筋(HRB335、HRB400) | C13: kg | D13: 13786.100 | F13: =ROUND(D13*E13,0) -> 0 | G13: 141.8
A14: 403-4 | B14: 附属结构钢筋 | F14: =ROUND(D14*E14,0) -> 0
A15: -a | B15: 光圆钢筋(HPB235、HPB300) | C15: kg | D15: 45.600 | F15: =ROUND(D15*E15,0) -> 0
A16: -b | B16: 带肋钢筋(HRB335、HRB400) | C16: kg | D16: 7284.600 | F16: =ROUND(D16*E16,0) -> 0
A17: 404 | B17: 基坑开挖及回填 | F17: =ROUND(D17*E17,0) -> 0
A18: 404-1 | B18: 干处挖土方 | C18: m3 | D18: 850.000 | F18: =ROUND(D18*E18,0) -> 0
A19: 410 | B19: 结构混凝土工程 | F19: =ROUND(D19*E19,0) -> 0
A20: 410-1 | B20: 混凝土基础(包括支撑梁、桩基承台、桩系梁，但不包括桩基) | F20: =ROUND(D20*E20,0) -> 0
A21: -a | B21: C30 | C21: m3 | D21: 84.400 | F21: =ROUND(D21*E21,0) -> 0
A22: 410-2 | B22: 混凝土下部结构 | F22: =ROUND(D22*E22,0) -> 0
A23: -a | B23: 桥台混凝土 | F23: =ROUND(D23*E23,0) -> 0
A24: -a-1 | B24: C35（抗裂纤维） | C24: m3 | D24: 41.100 | F24: =ROUND(D24*E24,0) -> 0
A25: -b | B25: 桥墩混凝土 | F25: =ROUND(D25*E25,0) -> 0
A26: -b-1 | B26: C35（抗裂纤维） | C26: m3 | D26: 13.600 | F26: =ROUND(D26*E26,0) -> 0
A27: -d | B27: 台帽混凝土 | F27: =ROUND(D27*E27,0) -> 0
A28: -d-1 | B28: C35（抗裂纤维） | C28: m3 | D28: 15.700 | F28: =ROUND(D28*E28,0) -> 0
A29: -e | B29: 耳墙混凝土 | F29: =ROUND(D29*E29,0) -> 0
A30: -e-1 | B30: C35 | C30: m3 | D30: 9.200 | F30: =ROUND(D30*E30,0) -> 0
A31: 410-3 | B31: 现浇混凝土上部结构 | F31: =ROUND(D31*E31,0) -> 0
A32: -a | B32: C40（抗裂纤维） | C32: m3 | D32: 55.200 | F32: =ROUND(D32*E32,0) -> 0
A33: 410-6 | B33: 现浇混凝土附属结构 | F33: =ROUND(D33*E33,0) -> 0
A34: -a | B34: C40 | C34: m3 | D34: 11.300 | F34: =ROUND(D34*E34,0) -> 0
A35: -b | B35: C30 | C35: m3 | D35: 23.400 | F35: =ROUND(D35*E35,0) -> 0
A36: -c | B36: C20 | C36: m3 | D36: 18.200 | F36: =ROUND(D36*E36,0) -> 0
A37: 415 | B37: 桥面铺装 | F37: =ROUND(D37*E37,0) -> 0
A38: 415-2 | B38: 水泥混凝土桥面铺装 | F38: =ROUND(D38*E38,0) -> 0
A39: -a | B39: C40（抗裂纤维） | C39: m3 | D39: 12.900 | F39: =ROUND(D39*E39,0) -> 0
A40: 415-4 | B40: 桥面排水 | F40: =ROUND(D40*E40,0) -> 0
...

Sheet 投标报价汇总表
A1: 5.4 投标报价汇总表
A2: 工 程 量 清 单
A3: ='100章'!A3 -> 采购项目名称：巴林右旗大板镇准哈日毛都嘎查乡村道路联络线工程
A4: 投标报价汇总表
A5: 序号 | B5: 章次 | C5: 科 目 名 称 | D5: 金额（人民币：元）
A6: 1 | B6: 100 | C6: 总 则 | D6: ='100章'!F28 -> 0
A7: 2 | B7: 200 | C7: 路 基 | D7: ='200章'!F31 -> 0
A8: 3 | B8: 300 | C8: 路 面 | D8: ='300章'!F27 -> 0
A9: 4 | B9: 400 | C9: 桥梁、涵洞 | D9: ='400章'!F45 -> 0
A10: 5 | B10: 500 | C10: 隧道
A11: 6 | B11: 600 | C11: 安全设施及预埋管线
A12: 7 | B12: 700 | C12: 绿化与环境保护设施
A13: 8 | B13: 第100章～700章清单合计 | D13: =SUM(D6:D12) -> 0
A14: 9 | B14: 已包含在清单合计中的材料、工程设备、专业工程暂估价合计
A15: 10 | B15: 清单合计减去材料、工程设备、专业工程暂估价合计 （即8-9=10） | D15: =D13-D14 -> 0
A16: 11 | B16: 计日工合计
A17: 12 | B17: 暂列金额10×0%（不含计日工总额） | D17: =ROUND((D15*0),0) -> 0
A18: 13 | B18: 投标报价（8+11+12=13） | D18: =ROUND(D13+D16+D17,0) -> 0
